BEGIN:VCALENDAR
VERSION:2.0
PRODID:-//IIWC - ECPv6.13.2.1//NONSGML v1.0//EN
CALSCALE:GREGORIAN
METHOD:PUBLISH
X-WR-CALNAME:IIWC
X-ORIGINAL-URL:https://iiwc.in
X-WR-CALDESC:Events for IIWC
REFRESH-INTERVAL;VALUE=DURATION:PT1H
X-Robots-Tag:noindex
X-PUBLISHED-TTL:PT1H
BEGIN:VTIMEZONE
TZID:UTC
BEGIN:STANDARD
TZOFFSETFROM:+0000
TZOFFSETTO:+0000
TZNAME:UTC
DTSTART:20260101T000000
END:STANDARD
END:VTIMEZONE
BEGIN:VTIMEZONE
TZID:Asia/Kolkata
BEGIN:STANDARD
TZOFFSETFROM:+0530
TZOFFSETTO:+0530
TZNAME:IST
DTSTART:20260101T000000
END:STANDARD
END:VTIMEZONE
BEGIN:VTIMEZONE
TZID:Asia/Kolkata
BEGIN:STANDARD
TZOFFSETFROM:+0530
TZOFFSETTO:+0530
TZNAME:IST
DTSTART:20260101T000000
END:STANDARD
END:VTIMEZONE
BEGIN:VEVENT
DTSTART;TZID=UTC:20260305T180000
DTEND;TZID=UTC:20260305T200000
DTSTAMP:20260423T142457
CREATED:20260228T024657Z
LAST-MODIFIED:20260228T024657Z
UID:1463-1772733600-1772740800@iiwc.in
SUMMARY:Dr. M D Parthasarathy and Smt. Sushila Parthasarathy Memorial Programme Bharatanatyam Dance Recital
DESCRIPTION:
URL:https://iiwc.in/event/dr-m-d-parthasarathy-and-smt-sushila-parthasarathy-memorial-programme-bharatanatyam-dance-recital/
LOCATION:Wadia Hall\, The Indian Institute of World Culture\, #6\, Shri B P Wadia Road\,\, Bangalore\, Karnataka\, 560004\, India
CATEGORIES:Cultural Programs
ATTACH;FMTTYPE=image/jpeg:https://iiwc.in/wp-content/uploads/2026/02/5MAr-Dance.jpeg
END:VEVENT
BEGIN:VEVENT
DTSTART;TZID=UTC:20260306T180000
DTEND;TZID=UTC:20260306T200000
DTSTAMP:20260423T142457
CREATED:20260228T025123Z
LAST-MODIFIED:20260306T080210Z
UID:1475-1772820000-1772827200@iiwc.in
SUMMARY:Music Program by Prasthuti Trust
DESCRIPTION:
URL:https://iiwc.in/event/music-program-by-prasthuti-trust/
LOCATION:Wadia Hall\, The Indian Institute of World Culture\, #6\, Shri B P Wadia Road\,\, Bangalore\, Karnataka\, 560004\, India
CATEGORIES:Cultural Programs
ATTACH;FMTTYPE=image/jpeg:https://iiwc.in/wp-content/uploads/2026/03/6Mar-Music.jpeg
END:VEVENT
BEGIN:VEVENT
DTSTART;TZID=UTC:20260307T100000
DTEND;TZID=UTC:20260307T120000
DTSTAMP:20260423T142457
CREATED:20260228T025226Z
LAST-MODIFIED:20260228T025226Z
UID:1479-1772877600-1772884800@iiwc.in
SUMMARY:“Kaladhyuthi” Presents Kannada Drama Program
DESCRIPTION:
URL:https://iiwc.in/event/kaladhyuthi-presents-kannada-drama-program/
LOCATION:Wadia Hall\, The Indian Institute of World Culture\, #6\, Shri B P Wadia Road\,\, Bangalore\, Karnataka\, 560004\, India
CATEGORIES:Theatre-Play
END:VEVENT
BEGIN:VEVENT
DTSTART;TZID=UTC:20260307T180000
DTEND;TZID=UTC:20260307T200000
DTSTAMP:20260423T142457
CREATED:20260228T024829Z
LAST-MODIFIED:20260306T075800Z
UID:1467-1772906400-1772913600@iiwc.in
SUMMARY:Classical Dance Recital – "Narthaki"
DESCRIPTION:
URL:https://iiwc.in/event/classical-dance-recital-narthaki/
LOCATION:Wadia Hall\, The Indian Institute of World Culture\, #6\, Shri B P Wadia Road\,\, Bangalore\, Karnataka\, 560004\, India
CATEGORIES:Cultural Programs
ATTACH;FMTTYPE=image/jpeg:https://iiwc.in/wp-content/uploads/2026/03/7Mar-Dance.jpeg
END:VEVENT
BEGIN:VEVENT
DTSTART;TZID=Asia/Kolkata:20260308T103000
DTEND;TZID=Asia/Kolkata:20260308T170000
DTSTAMP:20260423T142457
CREATED:20260306T080530Z
LAST-MODIFIED:20260306T080530Z
UID:1565-1772965800-1772989200@iiwc.in
SUMMARY:IIWC - Reading Circle will discuss - "Zoo Stories"
DESCRIPTION:
URL:https://iiwc.in/event/iiwc-reading-circle-will-discuss-zoo-stories/
LOCATION:Reading Room\, IIWC\, #6\, Shri B P Wadia Road\,\, Bangalore - 560004\, Karnataka\, 560004\, India
CATEGORIES:Reading Club
ATTACH;FMTTYPE=image/jpeg:https://iiwc.in/wp-content/uploads/2026/03/8MAr-Misc-Reading.jpeg
END:VEVENT
BEGIN:VEVENT
DTSTART;TZID=UTC:20260308T180000
DTEND;TZID=UTC:20260308T200000
DTSTAMP:20260423T142457
CREATED:20260228T025331Z
LAST-MODIFIED:20260306T075934Z
UID:1483-1772992800-1773000000@iiwc.in
SUMMARY:Saptak Presents Hindustani Vocal Concert
DESCRIPTION:
URL:https://iiwc.in/event/saptak-presents-hindustani-vocal-concert/
LOCATION:Wadia Hall\, The Indian Institute of World Culture\, #6\, Shri B P Wadia Road\,\, Bangalore\, Karnataka\, 560004\, India
CATEGORIES:Hindusthani Classical
ATTACH;FMTTYPE=image/jpeg:https://iiwc.in/wp-content/uploads/2026/03/8Mar-EveMusic.jpeg
END:VEVENT
BEGIN:VEVENT
DTSTART;TZID=UTC:20260310T180000
DTEND;TZID=UTC:20260310T200000
DTSTAMP:20260423T142457
CREATED:20260228T025422Z
LAST-MODIFIED:20260315T072724Z
UID:1487-1773165600-1773172800@iiwc.in
SUMMARY:Team Antaranga Presents Kannada Drama Program
DESCRIPTION:
URL:https://iiwc.in/event/team-antaranga-presents-kannada-drama-program/
LOCATION:Wadia Hall\, The Indian Institute of World Culture\, #6\, Shri B P Wadia Road\,\, Bangalore\, Karnataka\, 560004\, India
CATEGORIES:Theatre-Play
ATTACH;FMTTYPE=image/jpeg:https://iiwc.in/wp-content/uploads/2026/02/10-12Drama.jpeg
END:VEVENT
BEGIN:VEVENT
DTSTART;TZID=UTC:20260311T180000
DTEND;TZID=UTC:20260311T200000
DTSTAMP:20260423T142457
CREATED:20260228T025457Z
LAST-MODIFIED:20260315T071502Z
UID:1491-1773252000-1773259200@iiwc.in
SUMMARY:Team Antaranga Presents Kannada Drama Program
DESCRIPTION:
URL:https://iiwc.in/event/team-antaranga-presents-kannada-drama-program-2/
LOCATION:Karnataka
CATEGORIES:Theatre-Play
ATTACH;FMTTYPE=image/jpeg:https://iiwc.in/wp-content/uploads/2026/02/10-12Drama.jpeg
END:VEVENT
BEGIN:VEVENT
DTSTART;TZID=UTC:20260312T180000
DTEND;TZID=UTC:20260312T200000
DTSTAMP:20260423T142457
CREATED:20260228T025551Z
LAST-MODIFIED:20260315T072842Z
UID:1495-1773338400-1773345600@iiwc.in
SUMMARY:Team Antaranga Presents Kannada Drama Program
DESCRIPTION:
URL:https://iiwc.in/event/team-antaranga-presents-kannada-drama-program-3/
LOCATION:Wadia Hall\, The Indian Institute of World Culture\, #6\, Shri B P Wadia Road\,\, Bangalore\, Karnataka\, 560004\, India
CATEGORIES:Theatre-Play
ATTACH;FMTTYPE=image/jpeg:https://iiwc.in/wp-content/uploads/2026/02/10-12Drama.jpeg
END:VEVENT
BEGIN:VEVENT
DTSTART;TZID=Asia/Kolkata:20260313T100000
DTEND;TZID=Asia/Kolkata:20260318T190000
DTSTAMP:20260423T142457
CREATED:20260315T080342Z
LAST-MODIFIED:20260315T080342Z
UID:1575-1773396000-1773860400@iiwc.in
SUMMARY:“Varnakuncha” - Group Show
DESCRIPTION:
URL:https://iiwc.in/event/varnakuncha-group-show/
LOCATION:Art Gallery\, Indian Institute of World Culture\, #6\, Shri B P Wadia Road\, Basavanagudi\, Bangalore\, Karnataka\, 560004\, India
CATEGORIES:Art Gallery
ATTACH;FMTTYPE=image/jpeg:https://iiwc.in/wp-content/uploads/2026/03/13-18Mar-ArtGallery.jpeg
END:VEVENT
BEGIN:VEVENT
DTSTART;TZID=UTC:20260313T180000
DTEND;TZID=UTC:20260313T200000
DTSTAMP:20260423T142457
CREATED:20260228T024924Z
LAST-MODIFIED:20260228T024924Z
UID:1471-1773424800-1773432000@iiwc.in
SUMMARY:Carnatic Flute Concert
DESCRIPTION:
URL:https://iiwc.in/event/carnatic-flute-concert/
LOCATION:Wadia Hall\, The Indian Institute of World Culture\, #6\, Shri B P Wadia Road\,\, Bangalore\, Karnataka\, 560004\, India
CATEGORIES:Carnatic Instrumental
ATTACH;FMTTYPE=image/jpeg:https://iiwc.in/wp-content/uploads/2026/02/13Mar-Music.jpeg
END:VEVENT
BEGIN:VEVENT
DTSTART;TZID=UTC:20260314T180000
DTEND;TZID=UTC:20260314T200000
DTSTAMP:20260423T142457
CREATED:20260228T025700Z
LAST-MODIFIED:20260228T025700Z
UID:1499-1773511200-1773518400@iiwc.in
SUMMARY:Adya Art Foundation Presents Kannada Drama Program
DESCRIPTION:
URL:https://iiwc.in/event/adya-art-foundation-presents-kannada-drama-program/
LOCATION:Wadia Hall\, The Indian Institute of World Culture\, #6\, Shri B P Wadia Road\,\, Bangalore\, Karnataka\, 560004\, India
CATEGORIES:Theatre-Play
END:VEVENT
BEGIN:VEVENT
DTSTART;TZID=UTC:20260315T100000
DTEND;TZID=UTC:20260315T130000
DTSTAMP:20260423T142457
CREATED:20260228T025752Z
LAST-MODIFIED:20260228T025752Z
UID:1503-1773568800-1773579600@iiwc.in
SUMMARY:Gowri Sundar Prasthisthana Award Ceremony
DESCRIPTION:
URL:https://iiwc.in/event/gowri-sundar-prasthisthana-award-ceremony/
LOCATION:Wadia Hall\, The Indian Institute of World Culture\, #6\, Shri B P Wadia Road\,\, Bangalore\, Karnataka\, 560004\, India
CATEGORIES:Cultural Programs
END:VEVENT
BEGIN:VEVENT
DTSTART;TZID=UTC:20260315T180000
DTEND;TZID=UTC:20260315T200000
DTSTAMP:20260423T142457
CREATED:20260228T025918Z
LAST-MODIFIED:20260315T072408Z
UID:1507-1773597600-1773604800@iiwc.in
SUMMARY:Vishwa Sneha Balaga Presents Karaoke Music Program
DESCRIPTION:
URL:https://iiwc.in/event/vishwa-sneha-balaga-presents-karaoke-music-program/
LOCATION:Wadia Hall\, The Indian Institute of World Culture\, #6\, Shri B P Wadia Road\,\, Bangalore\, Karnataka\, 560004\, India
CATEGORIES:Cultural Programs
ATTACH;FMTTYPE=image/jpeg:https://iiwc.in/wp-content/uploads/2026/02/15Mar-Music.jpeg
END:VEVENT
BEGIN:VEVENT
DTSTART;TZID=UTC:20260317T180000
DTEND;TZID=UTC:20260317T200000
DTSTAMP:20260423T142457
CREATED:20260228T030022Z
LAST-MODIFIED:20260228T030022Z
UID:1511-1773770400-1773777600@iiwc.in
SUMMARY:IRC Shankar Matha Presents Kannada Drama Program
DESCRIPTION:
URL:https://iiwc.in/event/irc-shankar-matha-presents-kannada-drama-program/
LOCATION:Wadia Hall\, The Indian Institute of World Culture\, #6\, Shri B P Wadia Road\,\, Bangalore\, Karnataka\, 560004\, India
CATEGORIES:Theatre-Play
END:VEVENT
BEGIN:VEVENT
DTSTART;TZID=UTC:20260320T180000
DTEND;TZID=UTC:20260320T200000
DTSTAMP:20260423T142457
CREATED:20260228T030129Z
LAST-MODIFIED:20260228T030129Z
UID:1515-1774029600-1774036800@iiwc.in
SUMMARY:Cultural Program – Azim Premji University
DESCRIPTION:
URL:https://iiwc.in/event/cultural-program-azim-premji-university-2/
LOCATION:Wadia Hall\, The Indian Institute of World Culture\, #6\, Shri B P Wadia Road\,\, Bangalore\, Karnataka\, 560004\, India
CATEGORIES:Cultural Programs
END:VEVENT
BEGIN:VEVENT
DTSTART;TZID=UTC:20260321T180000
DTEND;TZID=UTC:20260321T200000
DTSTAMP:20260423T142457
CREATED:20260228T030259Z
LAST-MODIFIED:20260228T030259Z
UID:1519-1774116000-1774123200@iiwc.in
SUMMARY:Team Antaranga Bahiranga Presents Kannada Drama Program
DESCRIPTION:
URL:https://iiwc.in/event/team-antaranga-bahiranga-presents-kannada-drama-program/
LOCATION:Wadia Hall\, The Indian Institute of World Culture\, #6\, Shri B P Wadia Road\,\, Bangalore\, Karnataka\, 560004\, India
CATEGORIES:Theatre-Play
END:VEVENT
BEGIN:VEVENT
DTSTART;TZID=UTC:20260326T180000
DTEND;TZID=UTC:20260326T200000
DTSTAMP:20260423T142457
CREATED:20260228T030431Z
LAST-MODIFIED:20260228T030431Z
UID:1523-1774548000-1774555200@iiwc.in
SUMMARY:Sri Ba. Na. Sundara Rao Memorial Lecture Programme
DESCRIPTION:Topic : Spatial stories of Bengaluru’s historical landscape \nSpeaker : Prof. M B Rajani  (National Institute of Advanced Studies\, Bengaluru)  \n 
URL:https://iiwc.in/event/sri-ba-na-sundara-rao-memorial-lecture-programme/
LOCATION:Wadia Hall\, The Indian Institute of World Culture\, #6\, Shri B P Wadia Road\,\, Bangalore\, Karnataka\, 560004\, India
CATEGORIES:Lecture
END:VEVENT
BEGIN:VEVENT
DTSTART;TZID=Asia/Kolkata:20260327T180000
DTEND;TZID=Asia/Kolkata:20260327T203000
DTSTAMP:20260423T142457
CREATED:20260301T051411Z
LAST-MODIFIED:20260301T091026Z
UID:1540-1774634400-1774643400@iiwc.in
SUMMARY:NĀYIKA\, a National Dance Festival celebrating Womanhood!
DESCRIPTION:shambhavi_school_of_dance\n\nWe are back with NĀYIKA\, a National Dance Festival celebrating Womanhood!\n\n\nCurated by Guru Smt @vyjayanthikashi and organised by @shambhavi_school_of_dance.\nSave the date! \n#nayika #dancefestival #bangaloreevents #indianclassicaldance #dance
URL:https://iiwc.in/event/nayika-a-national-dance-festival-celebrating-womanhood/
LOCATION:Wadia Hall\, The Indian Institute of World Culture\, #6\, Shri B P Wadia Road\,\, Bangalore\, Karnataka\, 560004\, India
CATEGORIES:Bharata Natyam
END:VEVENT
BEGIN:VEVENT
DTSTART;TZID=UTC:20260329T180000
DTEND;TZID=UTC:20260329T200000
DTSTAMP:20260423T142457
CREATED:20260228T030543Z
LAST-MODIFIED:20260228T030543Z
UID:1527-1774807200-1774814400@iiwc.in
SUMMARY:Heartbeats Presents Karaoke Music Program
DESCRIPTION:
URL:https://iiwc.in/event/heartbeats-presents-karaoke-music-program/
LOCATION:Wadia Hall\, The Indian Institute of World Culture\, #6\, Shri B P Wadia Road\,\, Bangalore\, Karnataka\, 560004\, India
CATEGORIES:Cultural Programs
END:VEVENT
BEGIN:VEVENT
DTSTART;TZID=UTC:20260331T180000
DTEND;TZID=UTC:20260331T200000
DTSTAMP:20260423T142457
CREATED:20260228T030640Z
LAST-MODIFIED:20260228T030640Z
UID:1531-1774980000-1774987200@iiwc.in
SUMMARY:Samarpanam Presents Carnatic Music Program
DESCRIPTION:
URL:https://iiwc.in/event/samarpanam-presents-carnatic-music-program/
LOCATION:Wadia Hall\, The Indian Institute of World Culture\, #6\, Shri B P Wadia Road\,\, Bangalore\, Karnataka\, 560004\, India
CATEGORIES:Cultural Programs
END:VEVENT
END:VCALENDAR