BEGIN:VCALENDAR
VERSION:2.0
PRODID:-//IIWC - ECPv6.13.2.1//NONSGML v1.0//EN
CALSCALE:GREGORIAN
METHOD:PUBLISH
X-WR-CALNAME:IIWC
X-ORIGINAL-URL:https://iiwc.in
X-WR-CALDESC:Events for IIWC
REFRESH-INTERVAL;VALUE=DURATION:PT1H
X-Robots-Tag:noindex
X-PUBLISHED-TTL:PT1H
BEGIN:VTIMEZONE
TZID:UTC
BEGIN:STANDARD
TZOFFSETFROM:+0000
TZOFFSETTO:+0000
TZNAME:UTC
DTSTART:20250101T000000
END:STANDARD
END:VTIMEZONE
BEGIN:VEVENT
DTSTART;VALUE=DATE:20250902
DTEND;VALUE=DATE:20250908
DTSTAMP:20260426T061403
CREATED:20250901T235445Z
LAST-MODIFIED:20250901T235445Z
UID:1149-1756771200-1757289599@iiwc.in
SUMMARY:Akanksha Group Exhibition September 2nd - 7th
DESCRIPTION:
URL:https://iiwc.in/event/akanksha-group-exhibition-september-2nd-7th/
LOCATION:Art Gallery\, Indian Institute of World Culture\, #6\, Shri B P Wadia Road\, Basavanagudi\, Bangalore\, Karnataka\, 560004\, India
CATEGORIES:Art Gallery
ATTACH;FMTTYPE=image/jpeg:https://iiwc.in/wp-content/uploads/2025/09/2-7Sept-ArtGallery.jpeg
END:VEVENT
BEGIN:VEVENT
DTSTART;TZID=UTC:20250829T180000
DTEND;TZID=UTC:20250829T200000
DTSTAMP:20260426T061403
CREATED:20250813T234219Z
LAST-MODIFIED:20250813T234219Z
UID:1064-1756490400-1756497600@iiwc.in
SUMMARY:Bharatanatyam Dance Recital - The Nirali Collective
DESCRIPTION:
URL:https://iiwc.in/event/bharatanatyam-dance-recital-the-nirali-collective/
LOCATION:Wadia Hall\, The Indian Institute of World Culture\, #6\, Shri B P Wadia Road\,\, Bangalore\, Karnataka\, 560004\, India
CATEGORIES:Cultural Programs
ATTACH;FMTTYPE=image/jpeg:https://iiwc.in/wp-content/uploads/2025/08/29Aug-Dance-scaled.jpeg
END:VEVENT
BEGIN:VEVENT
DTSTART;TZID=UTC:20250828T180000
DTEND;TZID=UTC:20250828T200000
DTSTAMP:20260426T061403
CREATED:20250806T040736Z
LAST-MODIFIED:20250813T231911Z
UID:997-1756404000-1756411200@iiwc.in
SUMMARY:ಉಪನ್ಯಾಸ ಕಾರ್ಯಕ್ರಮ
DESCRIPTION:
URL:https://iiwc.in/event/%e0%b2%89%e0%b2%aa%e0%b2%a8%e0%b3%8d%e0%b2%af%e0%b2%be%e0%b2%b8-%e0%b2%95%e0%b2%be%e0%b2%b0%e0%b3%8d%e0%b2%af%e0%b2%95%e0%b3%8d%e0%b2%b0%e0%b2%ae/
LOCATION:Wadia Hall\, The Indian Institute of World Culture\, #6\, Shri B P Wadia Road\,\, Bangalore\, Karnataka\, 560004\, India
CATEGORIES:Lecture
ATTACH;FMTTYPE=image/jpeg:https://iiwc.in/wp-content/uploads/2025/08/28Aug-LEcture.jpeg
END:VEVENT
BEGIN:VEVENT
DTSTART;TZID=UTC:20250824T100000
DTEND;TZID=UTC:20250824T133000
DTSTAMP:20260426T061403
CREATED:20250813T233657Z
LAST-MODIFIED:20250813T233657Z
UID:1060-1756029600-1756042200@iiwc.in
SUMMARY:Book Release Program - Sawanna Publications
DESCRIPTION:
URL:https://iiwc.in/event/book-release-program-sawanna-publications/
LOCATION:Wadia Hall\, The Indian Institute of World Culture\, #6\, Shri B P Wadia Road\,\, Bangalore\, Karnataka\, 560004\, India
CATEGORIES:Book Release
END:VEVENT
BEGIN:VEVENT
DTSTART;TZID=UTC:20250821T180000
DTEND;TZID=UTC:20250821T200000
DTSTAMP:20260426T061403
CREATED:20250806T040528Z
LAST-MODIFIED:20250813T231454Z
UID:993-1755799200-1755806400@iiwc.in
SUMMARY:Photo Exhibition and Lecture Program
DESCRIPTION:
URL:https://iiwc.in/event/photo-exhibition-and-lecture-program/
LOCATION:Wadia Hall\, The Indian Institute of World Culture\, #6\, Shri B P Wadia Road\,\, Bangalore\, Karnataka\, 560004\, India
CATEGORIES:Lecture
ATTACH;FMTTYPE=image/jpeg:https://iiwc.in/wp-content/uploads/2025/08/21Aug-Lecture.jpeg
END:VEVENT
BEGIN:VEVENT
DTSTART;TZID=UTC:20250820T180000
DTEND;TZID=UTC:20250820T200000
DTSTAMP:20260426T061403
CREATED:20250806T040335Z
LAST-MODIFIED:20250806T040352Z
UID:989-1755712800-1755720000@iiwc.in
SUMMARY:ಸಂಸ್ಥಾಪಕರ ದಿನಾಚರಣೆ (Founder’s Day Celebrations)
DESCRIPTION:ಹರಟೆ ಕಾರ್ಯಕ್ರಮ \nವಿಷಯ: ಸಂಸ್ಕೃತಿ – ಸಂಸಾರ\, ಸಂಸ್ಥೆ\, ಸಮಾಜ \nಶ್ರೀ  ಎಮ್. ಎಸ್ ನರಸಿಂಹ ಮೂರ್ತಿ  \nಮತ್ತು  \nಶ್ರೀ  ವೈ ವಿ ಗುಂಡು ರಾವ್
URL:https://iiwc.in/event/%e0%b2%b8%e0%b2%82%e0%b2%b8%e0%b3%8d%e0%b2%a5%e0%b2%be%e0%b2%aa%e0%b2%95%e0%b2%b0-%e0%b2%a6%e0%b2%bf%e0%b2%a8%e0%b2%be%e0%b2%9a%e0%b2%b0%e0%b2%a3%e0%b3%86-founders-day-celebrations/
LOCATION:Wadia Hall\, The Indian Institute of World Culture\, #6\, Shri B P Wadia Road\,\, Bangalore\, Karnataka\, 560004\, India
END:VEVENT
BEGIN:VEVENT
DTSTART;TZID=UTC:20250817T160000
DTEND;TZID=UTC:20250817T200000
DTSTAMP:20260426T061403
CREATED:20250813T232242Z
LAST-MODIFIED:20250813T232350Z
UID:1044-1755446400-1755460800@iiwc.in
SUMMARY:Book Release Program - Basava Media Trust
DESCRIPTION:
URL:https://iiwc.in/event/book-release-program-basava-media-trust/
LOCATION:Wadia Hall\, The Indian Institute of World Culture\, #6\, Shri B P Wadia Road\,\, Bangalore\, Karnataka\, 560004\, India
CATEGORIES:Book Release
ATTACH;FMTTYPE=image/jpeg:https://iiwc.in/wp-content/uploads/2025/08/17AugBookEve-Release.jpeg
END:VEVENT
BEGIN:VEVENT
DTSTART;TZID=UTC:20250817T150000
DTEND;TZID=UTC:20250817T160000
DTSTAMP:20260426T061403
CREATED:20250813T232737Z
LAST-MODIFIED:20250813T232737Z
UID:1049-1755442800-1755446400@iiwc.in
SUMMARY:Painting Demonstrations by Sri Jasvir Ram
DESCRIPTION:
URL:https://iiwc.in/event/painting-demonstrations-by-sri-jasvir-ram/
LOCATION:Art Gallery\, Indian Institute of World Culture\, #6\, Shri B P Wadia Road\, Basavanagudi\, Bangalore\, Karnataka\, 560004\, India
CATEGORIES:Art Gallery
ATTACH;FMTTYPE=image/jpeg:https://iiwc.in/wp-content/uploads/2025/08/17Aug-Misc.jpeg
END:VEVENT
BEGIN:VEVENT
DTSTART;TZID=UTC:20250816T180000
DTEND;TZID=UTC:20250816T200000
DTSTAMP:20260426T061403
CREATED:20250813T233357Z
LAST-MODIFIED:20250813T233357Z
UID:1055-1755367200-1755374400@iiwc.in
SUMMARY:Azim Premji University Cultural Program
DESCRIPTION:
URL:https://iiwc.in/event/azim-premji-university-cultural-program/
LOCATION:Art Gallery\, Indian Institute of World Culture\, #6\, Shri B P Wadia Road\, Basavanagudi\, Bangalore\, Karnataka\, 560004\, India
CATEGORIES:Cultural Programs
ATTACH;FMTTYPE=image/jpeg:https://iiwc.in/wp-content/uploads/2025/08/16Aug-Lecture.jpeg
END:VEVENT
BEGIN:VEVENT
DTSTART;TZID=UTC:20250814T180000
DTEND;TZID=UTC:20250814T200000
DTSTAMP:20260426T061403
CREATED:20250813T225419Z
LAST-MODIFIED:20250813T225419Z
UID:1034-1755194400-1755201600@iiwc.in
SUMMARY:Carnatic Flute Concert
DESCRIPTION:
URL:https://iiwc.in/event/carnatic-flute-concert-2/
LOCATION:Wadia Hall\, The Indian Institute of World Culture\, #6\, Shri B P Wadia Road\,\, Bangalore\, Karnataka\, 560004\, India
CATEGORIES:Carnatic Instrumental,Cultural Programs
ATTACH;FMTTYPE=image/jpeg:https://iiwc.in/wp-content/uploads/2025/08/14Aug-Music.jpeg
END:VEVENT
BEGIN:VEVENT
DTSTART;TZID=UTC:20250812T170000
DTEND;TZID=UTC:20250812T200000
DTSTAMP:20260426T061403
CREATED:20250807T045116Z
LAST-MODIFIED:20250812T084321Z
UID:1003-1755018000-1755028800@iiwc.in
SUMMARY:Lecture Program
DESCRIPTION:
URL:https://iiwc.in/event/lecture-program/
LOCATION:Wadia Hall\, The Indian Institute of World Culture\, #6\, Shri B P Wadia Road\,\, Bangalore\, Karnataka\, 560004\, India
CATEGORIES:Cultural Programs
ATTACH;FMTTYPE=image/jpeg:https://iiwc.in/wp-content/uploads/2025/08/12Aug-LEcture.jpeg
END:VEVENT
BEGIN:VEVENT
DTSTART;TZID=UTC:20250809T093000
DTEND;TZID=UTC:20250809T120000
DTSTAMP:20260426T061403
CREATED:20250812T062510Z
LAST-MODIFIED:20250812T090952Z
UID:1009-1754731800-1754740800@iiwc.in
SUMMARY:Voice & Strings
DESCRIPTION:
URL:https://iiwc.in/event/voice-strings/
LOCATION:Wadia Hall\, The Indian Institute of World Culture\, #6\, Shri B P Wadia Road\,\, Bangalore\, Karnataka\, 560004\, India
CATEGORIES:Cultural Programs
ATTACH;FMTTYPE=image/jpeg:https://iiwc.in/wp-content/uploads/2025/08/VoiceStrings-scaled.jpeg
END:VEVENT
BEGIN:VEVENT
DTSTART;TZID=UTC:20250802T160000
DTEND;TZID=UTC:20250802T200000
DTSTAMP:20260426T061403
CREATED:20250813T224846Z
LAST-MODIFIED:20250813T224846Z
UID:1030-1754150400-1754164800@iiwc.in
SUMMARY:Book Release Program - Harivu Creations Pvt. Ltd.
DESCRIPTION:
URL:https://iiwc.in/event/book-release-program-harivu-creations-pvt-ltd-2/
LOCATION:Wadia Hall\, The Indian Institute of World Culture\, #6\, Shri B P Wadia Road\,\, Bangalore\, Karnataka\, 560004\, India
ATTACH;FMTTYPE=image/jpeg:https://iiwc.in/wp-content/uploads/2025/08/2Aug-BookRelease-1.jpeg
END:VEVENT
BEGIN:VEVENT
DTSTART;TZID=UTC:20250802T160000
DTEND;TZID=UTC:20250802T200000
DTSTAMP:20260426T061403
CREATED:20250801T231225Z
LAST-MODIFIED:20250812T085437Z
UID:972-1754150400-1754164800@iiwc.in
SUMMARY:Book Release Program - Harivu Creations Pvt. Ltd.
DESCRIPTION:
URL:https://iiwc.in/event/book-release-program-harivu-creations-pvt-ltd/
LOCATION:Wadia Hall\, The Indian Institute of World Culture\, #6\, Shri B P Wadia Road\,\, Bangalore\, Karnataka\, 560004\, India
CATEGORIES:Book Release
ATTACH;FMTTYPE=image/jpeg:https://iiwc.in/wp-content/uploads/2025/08/2Aug-BookRelease.jpeg
END:VEVENT
BEGIN:VEVENT
DTSTART;TZID=UTC:20250801T160000
DTEND;TZID=UTC:20250801T200000
DTSTAMP:20260426T061403
CREATED:20250813T224644Z
LAST-MODIFIED:20250813T224644Z
UID:1025-1754064000-1754078400@iiwc.in
SUMMARY:Swaraarnava School of Music
DESCRIPTION:
URL:https://iiwc.in/event/swaraarnava-school-of-music/
LOCATION:Wadia Hall\, The Indian Institute of World Culture\, #6\, Shri B P Wadia Road\,\, Bangalore\, Karnataka\, 560004\, India
ATTACH;FMTTYPE=image/jpeg:https://iiwc.in/wp-content/uploads/2025/08/1Aug-Music.jpeg
END:VEVENT
BEGIN:VEVENT
DTSTART;TZID=UTC:20250726T180000
DTEND;TZID=UTC:20250726T200000
DTSTAMP:20260426T061403
CREATED:20250722T031255Z
LAST-MODIFIED:20250722T031320Z
UID:947-1753552800-1753560000@iiwc.in
SUMMARY:Karaoke Program – Classic Pearls
DESCRIPTION:
URL:https://iiwc.in/event/karaoke-program-classic-pearls/
LOCATION:Wadia Hall\, The Indian Institute of World Culture\, #6\, Shri B P Wadia Road\,\, Bangalore\, Karnataka\, 560004\, India
CATEGORIES:Cultural Programs
END:VEVENT
BEGIN:VEVENT
DTSTART;TZID=UTC:20250726T100000
DTEND;TZID=UTC:20250726T140000
DTSTAMP:20260426T061403
CREATED:20250721T223303Z
LAST-MODIFIED:20250722T031036Z
UID:923-1753524000-1753538400@iiwc.in
SUMMARY:Book Release Program
DESCRIPTION:
URL:https://iiwc.in/event/book-release-program-4/
LOCATION:Wadia Hall\, The Indian Institute of World Culture\, #6\, Shri B P Wadia Road\,\, Bangalore\, Karnataka\, 560004\, India
CATEGORIES:Cultural Programs
ATTACH;FMTTYPE=image/jpeg:https://iiwc.in/wp-content/uploads/2025/07/26July-BookRelease.jpeg
END:VEVENT
BEGIN:VEVENT
DTSTART;TZID=UTC:20250725T180000
DTEND;TZID=UTC:20250725T200000
DTSTAMP:20260426T061403
CREATED:20250714T231024Z
LAST-MODIFIED:20250721T224532Z
UID:909-1753466400-1753473600@iiwc.in
SUMMARY:Sri Devatha Nagaraj Memorial Program
DESCRIPTION:
URL:https://iiwc.in/event/sri-devatha-nagaraj-memorial-program/
LOCATION:Wadia Hall\, The Indian Institute of World Culture\, #6\, Shri B P Wadia Road\,\, Bangalore\, Karnataka\, 560004\, India
CATEGORIES:Cultural Programs
ATTACH;FMTTYPE=image/jpeg:https://iiwc.in/wp-content/uploads/2025/07/25July-Lecture.jpeg
END:VEVENT
BEGIN:VEVENT
DTSTART;TZID=UTC:20250720T150000
DTEND;TZID=UTC:20250720T200000
DTSTAMP:20260426T061403
CREATED:20250722T031939Z
LAST-MODIFIED:20250722T032014Z
UID:956-1753023600-1753041600@iiwc.in
SUMMARY:Sugama Sangeetha and Hindustani Vocal Concert
DESCRIPTION:
URL:https://iiwc.in/event/sugama-sangeetha-and-hindustani-vocal-concert/
LOCATION:Wadia Hall\, The Indian Institute of World Culture\, #6\, Shri B P Wadia Road\,\, Bangalore\, Karnataka\, 560004\, India
CATEGORIES:Cultural Programs
ATTACH;FMTTYPE=image/jpeg:https://iiwc.in/wp-content/uploads/2025/07/20JulyEvening-Music.jpeg
END:VEVENT
BEGIN:VEVENT
DTSTART;TZID=UTC:20250720T100000
DTEND;TZID=UTC:20250720T140000
DTSTAMP:20260426T061403
CREATED:20250722T031746Z
LAST-MODIFIED:20250722T031814Z
UID:951-1753005600-1753020000@iiwc.in
SUMMARY:Sri Rama Kala Vedike presents Carnatic Vocal Concert
DESCRIPTION:
URL:https://iiwc.in/event/sri-rama-kala-vedike-presents-carnatic-vocal-concert/
LOCATION:Wadia Hall\, The Indian Institute of World Culture\, #6\, Shri B P Wadia Road\,\, Bangalore\, Karnataka\, 560004\, India
CATEGORIES:Cultural Programs
ATTACH;FMTTYPE=image/jpeg:https://iiwc.in/wp-content/uploads/2025/07/20JulyMorning-Music.jpeg
END:VEVENT
BEGIN:VEVENT
DTSTART;TZID=UTC:20250719T180000
DTEND;TZID=UTC:20250719T200000
DTSTAMP:20260426T061403
CREATED:20250714T231357Z
LAST-MODIFIED:20250714T232139Z
UID:913-1752948000-1752955200@iiwc.in
SUMMARY:Hindustani Vocal Concert
DESCRIPTION:Smt. Sushila & Sri H Nanjundiah\, Smt. Kuntala & Prof. M A Sethu Rao \nand \nSmt. Kamala Ramaswamy and Sri C R Ramaswamy Memorial Programme \nHindustani Vocal Concert \nVocal : Smt. Shruti Bode \n Harmonium : Sri Ajay Hegde \nTabla : Sri Yogeesh Bhat
URL:https://iiwc.in/event/hindustani-vocal-concert-2/
LOCATION:Wadia Hall\, The Indian Institute of World Culture\, #6\, Shri B P Wadia Road\,\, Bangalore\, Karnataka\, 560004\, India
CATEGORIES:Cultural Programs
ATTACH;FMTTYPE=image/jpeg:https://iiwc.in/wp-content/uploads/2025/07/19July-Music.jpeg
END:VEVENT
BEGIN:VEVENT
DTSTART;TZID=UTC:20250718T190000
DTEND;TZID=UTC:20250718T203000
DTSTAMP:20260426T061403
CREATED:20250722T032412Z
LAST-MODIFIED:20250722T032519Z
UID:961-1752865200-1752870600@iiwc.in
SUMMARY:Drama Program Team - Illuminating Windows
DESCRIPTION:
URL:https://iiwc.in/event/drama-program-team-illuminating-windows/
LOCATION:Wadia Hall\, The Indian Institute of World Culture\, #6\, Shri B P Wadia Road\,\, Bangalore\, Karnataka\, 560004\, India
CATEGORIES:Theatre-Play
ATTACH;FMTTYPE=image/jpeg:https://iiwc.in/wp-content/uploads/2025/07/18July-Drama.jpeg
END:VEVENT
BEGIN:VEVENT
DTSTART;TZID=UTC:20250717T180000
DTEND;TZID=UTC:20250717T200000
DTSTAMP:20260426T061403
CREATED:20250714T230624Z
LAST-MODIFIED:20250714T230746Z
UID:905-1752775200-1752782400@iiwc.in
SUMMARY:ಶ್ರೀಮತಿ ಪಂಕಜಮ್ಮ ಮತ್ತು ಶ್ರೀ  ಮಾಸ್ತಿ ವೆಂಕಟೇಶ ಅಯ್ಯಂಗಾರ್  ಸ್ಮರಣಾರ್ಥ ಉಪನ್ಯಾಸ ಕಾರ್ಯಕ್ರಮ
DESCRIPTION:ಪುಸ್ತಕ ಪರಿಚಯ  \nಮಾಸ್ತಿ ವೆಂಕಟೇಶ ಅಯ್ಯಂಗಾರ್  ರವರ “ಚಿಕ್ಕವೀರ ರಾಜೇಂದ್ರ” \nಪರಿಚಯ :  ಶ್ರೀ ರೊಹಿತ್ ಚಕ್ರತೀರ್ಥರವರಿಂದ
URL:https://iiwc.in/event/%e0%b2%b6%e0%b3%8d%e0%b2%b0%e0%b3%80%e0%b2%ae%e0%b2%a4%e0%b2%bf-%e0%b2%aa%e0%b2%82%e0%b2%95%e0%b2%9c%e0%b2%ae%e0%b3%8d%e0%b2%ae-%e0%b2%ae%e0%b2%a4%e0%b3%8d%e0%b2%a4%e0%b3%81-%e0%b2%b6%e0%b3%8d/
LOCATION:Wadia Hall\, The Indian Institute of World Culture\, #6\, Shri B P Wadia Road\,\, Bangalore\, Karnataka\, 560004\, India
CATEGORIES:Cultural Programs
ATTACH;FMTTYPE=image/jpeg:https://iiwc.in/wp-content/uploads/2025/07/17July-Lecture.jpeg
END:VEVENT
BEGIN:VEVENT
DTSTART;TZID=UTC:20250716T180000
DTEND;TZID=UTC:20250716T200000
DTSTAMP:20260426T061403
CREATED:20250714T230156Z
LAST-MODIFIED:20250714T230234Z
UID:897-1752688800-1752696000@iiwc.in
SUMMARY:Nostalgic Memories of Vintage Music - Video Presentation and Talk
DESCRIPTION:Topic : Remembering Shankar Jaikishan  \nSpeaker : Sri Narahari Rao \n(President\, Suchitra Film Society)
URL:https://iiwc.in/event/nostalgic-memories-of-vintage-music-video-presentation-and-talk/
LOCATION:Wadia Hall\, The Indian Institute of World Culture\, #6\, Shri B P Wadia Road\,\, Bangalore\, Karnataka\, 560004\, India
CATEGORIES:Cultural Programs
ATTACH;FMTTYPE=image/jpeg:https://iiwc.in/wp-content/uploads/2025/07/16July-Lecture.jpeg
END:VEVENT
BEGIN:VEVENT
DTSTART;TZID=UTC:20250715T100000
DTEND;TZID=UTC:20250725T190000
DTSTAMP:20260426T061403
CREATED:20250714T225347Z
LAST-MODIFIED:20250721T225642Z
UID:891-1752573600-1753470000@iiwc.in
SUMMARY:Photo exhibition to Commemorate of legacy of Patrice Lamumba
DESCRIPTION:
URL:https://iiwc.in/event/inauguration-of-photo-exhibition/
LOCATION:Art Gallery\, Indian Institute of World Culture\, #6\, Shri B P Wadia Road\, Basavanagudi\, Bangalore\, Karnataka\, 560004\, India
CATEGORIES:Art Gallery
ATTACH;FMTTYPE=image/jpeg:https://iiwc.in/wp-content/uploads/2025/07/15-25July-ArtGallery2.jpeg
END:VEVENT
BEGIN:VEVENT
DTSTART;TZID=UTC:20250713T100000
DTEND;TZID=UTC:20250720T190000
DTSTAMP:20260426T061403
CREATED:20250714T233011Z
LAST-MODIFIED:20250714T233140Z
UID:917-1752400800-1753038000@iiwc.in
SUMMARY:Azim Premji University – Art Gallery Show @ First Floor
DESCRIPTION:
URL:https://iiwc.in/event/azim-premji-university-art-gallery-show-first-floor/
LOCATION:Art Gallery\, Indian Institute of World Culture\, #6\, Shri B P Wadia Road\, Basavanagudi\, Bangalore\, Karnataka\, 560004\, India
CATEGORIES:Art Gallery
ATTACH;FMTTYPE=image/jpeg:https://iiwc.in/wp-content/uploads/2025/07/13-20July-ArtGallery-AzimPremji.jpg
END:VEVENT
BEGIN:VEVENT
DTSTART;TZID=UTC:20250710T180000
DTEND;TZID=UTC:20250710T193000
DTSTAMP:20260426T061403
CREATED:20250704T035720Z
LAST-MODIFIED:20250704T040125Z
UID:885-1752170400-1752175800@iiwc.in
SUMMARY:ಡಾ|| ಡಿ. ವಿ. ಗುಂಡಪ್ಪ ಸ್ಮರಣಾರ್ಥ ಉಪನ್ಯಾಸ ಕಾರ್ಯಕ್ರಮ
DESCRIPTION:ಪುಸ್ತಕ ಪರಿಚಯ  \nಡಿ ವಿ ಜಿ ಅವರ “ಅಂತಃಪುರ ಗೀತೆಗಳು” \nಪರಿಚಯ :  ಶ್ರೀ ಅರ್ಜುನ್ ಭಾರದ್ವಜ್ ರವರಿಂದ
URL:https://iiwc.in/event/%e0%b2%a1%e0%b2%be-%e0%b2%a1%e0%b2%bf-%e0%b2%b5%e0%b2%bf-%e0%b2%97%e0%b3%81%e0%b2%82%e0%b2%a1%e0%b2%aa%e0%b3%8d%e0%b2%aa-%e0%b2%b8%e0%b3%8d%e0%b2%ae%e0%b2%b0%e0%b2%a3%e0%b2%be%e0%b2%b0%e0%b3%8d/
LOCATION:Wadia Hall\, The Indian Institute of World Culture\, #6\, Shri B P Wadia Road\,\, Bangalore\, Karnataka\, 560004\, India
ATTACH;FMTTYPE=image/jpeg:https://iiwc.in/wp-content/uploads/2025/07/10July-Lecture.jpeg
END:VEVENT
BEGIN:VEVENT
DTSTART;TZID=UTC:20250710T100000
DTEND;TZID=UTC:20250713T190000
DTSTAMP:20260426T061403
CREATED:20250722T032856Z
LAST-MODIFIED:20250722T033412Z
UID:966-1752141600-1752433200@iiwc.in
SUMMARY:Mandala Artists Collective Exhibition
DESCRIPTION:
URL:https://iiwc.in/event/mandala-artists-collective-exhibition/
LOCATION:Art Gallery\, Indian Institute of World Culture\, #6\, Shri B P Wadia Road\, Basavanagudi\, Bangalore\, Karnataka\, 560004\, India
ATTACH;FMTTYPE=image/jpeg:https://iiwc.in/wp-content/uploads/2025/07/10-13July-ArtGallery.jpeg
END:VEVENT
BEGIN:VEVENT
DTSTART;TZID=UTC:20250701T100000
DTEND;TZID=UTC:20250704T190000
DTSTAMP:20260426T061403
CREATED:20250623T232245Z
LAST-MODIFIED:20250623T232245Z
UID:666-1751364000-1751655600@iiwc.in
SUMMARY:Sacred Science
DESCRIPTION:
URL:https://iiwc.in/event/sacred-science/
LOCATION:Art Gallery\, Indian Institute of World Culture\, #6\, Shri B P Wadia Road\, Basavanagudi\, Bangalore\, Karnataka\, 560004\, India
CATEGORIES:Art Gallery
ATTACH;FMTTYPE=image/jpeg:https://iiwc.in/wp-content/uploads/2025/06/WhatsApp-Image-2025-06-24-at-6.22.59-AM.jpeg
END:VEVENT
BEGIN:VEVENT
DTSTART;TZID=UTC:20250628T180000
DTEND;TZID=UTC:20250628T200000
DTSTAMP:20260426T061403
CREATED:20250628T034946Z
LAST-MODIFIED:20250628T035119Z
UID:827-1751133600-1751140800@iiwc.in
SUMMARY:Sapthak Presents - Hindustani Vocal Concert
DESCRIPTION:
URL:https://iiwc.in/event/sapthak-presents-hindustani-vocal-concert/
LOCATION:Wadia Hall\, The Indian Institute of World Culture\, #6\, Shri B P Wadia Road\,\, Bangalore\, Karnataka\, 560004\, India
CATEGORIES:Cultural Programs
ATTACH;FMTTYPE=image/jpeg:https://iiwc.in/wp-content/uploads/2025/06/28June-Music.jpeg
END:VEVENT
END:VCALENDAR