BEGIN:VCALENDAR
VERSION:2.0
PRODID:-//IIWC - ECPv6.13.2.1//NONSGML v1.0//EN
CALSCALE:GREGORIAN
METHOD:PUBLISH
X-WR-CALNAME:IIWC
X-ORIGINAL-URL:https://iiwc.in
X-WR-CALDESC:Events for IIWC
REFRESH-INTERVAL;VALUE=DURATION:PT1H
X-Robots-Tag:noindex
X-PUBLISHED-TTL:PT1H
BEGIN:VTIMEZONE
TZID:UTC
BEGIN:STANDARD
TZOFFSETFROM:+0000
TZOFFSETTO:+0000
TZNAME:UTC
DTSTART:20250101T000000
END:STANDARD
END:VTIMEZONE
BEGIN:VTIMEZONE
TZID:Asia/Kolkata
BEGIN:STANDARD
TZOFFSETFROM:+0530
TZOFFSETTO:+0530
TZNAME:IST
DTSTART:20250101T000000
END:STANDARD
END:VTIMEZONE
BEGIN:VEVENT
DTSTART;TZID=UTC:20250713T100000
DTEND;TZID=UTC:20250720T190000
DTSTAMP:20260426T043707
CREATED:20250714T233011Z
LAST-MODIFIED:20250714T233140Z
UID:917-1752400800-1753038000@iiwc.in
SUMMARY:Azim Premji University – Art Gallery Show @ First Floor
DESCRIPTION:
URL:https://iiwc.in/event/azim-premji-university-art-gallery-show-first-floor/
LOCATION:Art Gallery\, Indian Institute of World Culture\, #6\, Shri B P Wadia Road\, Basavanagudi\, Bangalore\, Karnataka\, 560004\, India
CATEGORIES:Art Gallery
ATTACH;FMTTYPE=image/jpeg:https://iiwc.in/wp-content/uploads/2025/07/13-20July-ArtGallery-AzimPremji.jpg
END:VEVENT
BEGIN:VEVENT
DTSTART;TZID=UTC:20250710T180000
DTEND;TZID=UTC:20250710T193000
DTSTAMP:20260426T043707
CREATED:20250704T035720Z
LAST-MODIFIED:20250704T040125Z
UID:885-1752170400-1752175800@iiwc.in
SUMMARY:ಡಾ|| ಡಿ. ವಿ. ಗುಂಡಪ್ಪ ಸ್ಮರಣಾರ್ಥ ಉಪನ್ಯಾಸ ಕಾರ್ಯಕ್ರಮ
DESCRIPTION:ಪುಸ್ತಕ ಪರಿಚಯ  \nಡಿ ವಿ ಜಿ ಅವರ “ಅಂತಃಪುರ ಗೀತೆಗಳು” \nಪರಿಚಯ :  ಶ್ರೀ ಅರ್ಜುನ್ ಭಾರದ್ವಜ್ ರವರಿಂದ
URL:https://iiwc.in/event/%e0%b2%a1%e0%b2%be-%e0%b2%a1%e0%b2%bf-%e0%b2%b5%e0%b2%bf-%e0%b2%97%e0%b3%81%e0%b2%82%e0%b2%a1%e0%b2%aa%e0%b3%8d%e0%b2%aa-%e0%b2%b8%e0%b3%8d%e0%b2%ae%e0%b2%b0%e0%b2%a3%e0%b2%be%e0%b2%b0%e0%b3%8d/
LOCATION:Wadia Hall\, The Indian Institute of World Culture\, #6\, Shri B P Wadia Road\,\, Bangalore\, Karnataka\, 560004\, India
ATTACH;FMTTYPE=image/jpeg:https://iiwc.in/wp-content/uploads/2025/07/10July-Lecture.jpeg
END:VEVENT
BEGIN:VEVENT
DTSTART;TZID=UTC:20250710T100000
DTEND;TZID=UTC:20250713T190000
DTSTAMP:20260426T043707
CREATED:20250722T032856Z
LAST-MODIFIED:20250722T033412Z
UID:966-1752141600-1752433200@iiwc.in
SUMMARY:Mandala Artists Collective Exhibition
DESCRIPTION:
URL:https://iiwc.in/event/mandala-artists-collective-exhibition/
LOCATION:Art Gallery\, Indian Institute of World Culture\, #6\, Shri B P Wadia Road\, Basavanagudi\, Bangalore\, Karnataka\, 560004\, India
ATTACH;FMTTYPE=image/jpeg:https://iiwc.in/wp-content/uploads/2025/07/10-13July-ArtGallery.jpeg
END:VEVENT
BEGIN:VEVENT
DTSTART;TZID=UTC:20250701T100000
DTEND;TZID=UTC:20250704T190000
DTSTAMP:20260426T043707
CREATED:20250623T232245Z
LAST-MODIFIED:20250623T232245Z
UID:666-1751364000-1751655600@iiwc.in
SUMMARY:Sacred Science
DESCRIPTION:
URL:https://iiwc.in/event/sacred-science/
LOCATION:Art Gallery\, Indian Institute of World Culture\, #6\, Shri B P Wadia Road\, Basavanagudi\, Bangalore\, Karnataka\, 560004\, India
CATEGORIES:Art Gallery
ATTACH;FMTTYPE=image/jpeg:https://iiwc.in/wp-content/uploads/2025/06/WhatsApp-Image-2025-06-24-at-6.22.59-AM.jpeg
END:VEVENT
BEGIN:VEVENT
DTSTART;TZID=UTC:20250628T180000
DTEND;TZID=UTC:20250628T200000
DTSTAMP:20260426T043707
CREATED:20250628T034946Z
LAST-MODIFIED:20250628T035119Z
UID:827-1751133600-1751140800@iiwc.in
SUMMARY:Sapthak Presents - Hindustani Vocal Concert
DESCRIPTION:
URL:https://iiwc.in/event/sapthak-presents-hindustani-vocal-concert/
LOCATION:Wadia Hall\, The Indian Institute of World Culture\, #6\, Shri B P Wadia Road\,\, Bangalore\, Karnataka\, 560004\, India
CATEGORIES:Cultural Programs
ATTACH;FMTTYPE=image/jpeg:https://iiwc.in/wp-content/uploads/2025/06/28June-Music.jpeg
END:VEVENT
BEGIN:VEVENT
DTSTART;TZID=UTC:20250622T163000
DTEND;TZID=UTC:20250622T210000
DTSTAMP:20260426T043707
CREATED:20250628T034738Z
LAST-MODIFIED:20250628T034817Z
UID:822-1750609800-1750626000@iiwc.in
SUMMARY:Drama Program – Team Prakasam
DESCRIPTION:
URL:https://iiwc.in/event/drama-program-team-prakasam-2/
LOCATION:Wadia Hall\, The Indian Institute of World Culture\, #6\, Shri B P Wadia Road\,\, Bangalore\, Karnataka\, 560004\, India
CATEGORIES:Theatre-Play
ATTACH;FMTTYPE=image/jpeg:https://iiwc.in/wp-content/uploads/2025/06/22June-Drama.jpeg
END:VEVENT
BEGIN:VEVENT
DTSTART;TZID=UTC:20250621T180000
DTEND;TZID=UTC:20250621T200000
DTSTAMP:20260426T043707
CREATED:20250628T034441Z
LAST-MODIFIED:20250628T034441Z
UID:816-1750528800-1750536000@iiwc.in
SUMMARY:Achchi Classical Dance Center - Bharatanatyam Dance Recital
DESCRIPTION:
URL:https://iiwc.in/event/achchi-classical-dance-center-bharatanatyam-dance-recital/
LOCATION:Wadia Hall\, The Indian Institute of World Culture\, #6\, Shri B P Wadia Road\,\, Bangalore\, Karnataka\, 560004\, India
CATEGORIES:Cultural Programs
ATTACH;FMTTYPE=image/jpeg:https://iiwc.in/wp-content/uploads/2025/06/21June-Dance.jpeg
END:VEVENT
BEGIN:VEVENT
DTSTART;TZID=UTC:20250618T180000
DTEND;TZID=UTC:20250618T200000
DTSTAMP:20260426T043707
CREATED:20250628T031940Z
LAST-MODIFIED:20250628T032046Z
UID:811-1750269600-1750276800@iiwc.in
SUMMARY:“Dr. HSV Samsrane” - Cultural Program by Azim Premji University
DESCRIPTION:
URL:https://iiwc.in/event/dr-hsv-samsrane-cultural-program-by-azim-premji-university/
LOCATION:Wadia Hall\, The Indian Institute of World Culture\, #6\, Shri B P Wadia Road\,\, Bangalore\, Karnataka\, 560004\, India
CATEGORIES:Cultural Programs
ATTACH;FMTTYPE=image/jpeg:https://iiwc.in/wp-content/uploads/2025/06/18June-Music.jpeg
END:VEVENT
BEGIN:VEVENT
DTSTART;VALUE=DATE:20250617
DTEND;VALUE=DATE:20250629
DTSTAMP:20260426T043707
CREATED:20250628T040038Z
LAST-MODIFIED:20250628T040059Z
UID:838-1750118400-1751155199@iiwc.in
SUMMARY:Indian Institute of Cartoonists Art Show @ IIWC Art Gallery
DESCRIPTION:
URL:https://iiwc.in/event/indian-institute-of-cartoonists-art-show-iiwc-art-gallery/
LOCATION:Art Gallery\, Indian Institute of World Culture\, #6\, Shri B P Wadia Road\, Basavanagudi\, Bangalore\, Karnataka\, 560004\, India
CATEGORIES:Art Gallery
ATTACH;FMTTYPE=image/jpeg:https://iiwc.in/wp-content/uploads/2025/06/17-28June-ArtGallery.jpeg
END:VEVENT
BEGIN:VEVENT
DTSTART;TZID=UTC:20250615T180000
DTEND;TZID=UTC:20250615T200000
DTSTAMP:20260426T043707
CREATED:20250628T031707Z
LAST-MODIFIED:20250628T031745Z
UID:806-1750010400-1750017600@iiwc.in
SUMMARY:Music Program
DESCRIPTION:
URL:https://iiwc.in/event/music-program-2/
LOCATION:Wadia Hall\, The Indian Institute of World Culture\, #6\, Shri B P Wadia Road\,\, Bangalore\, Karnataka\, 560004\, India
CATEGORIES:Cultural Programs
ATTACH;FMTTYPE=image/jpeg:https://iiwc.in/wp-content/uploads/2025/06/15June-Music.jpeg
END:VEVENT
BEGIN:VEVENT
DTSTART;TZID=UTC:20250614T180000
DTEND;TZID=UTC:20250614T200000
DTSTAMP:20260426T043707
CREATED:20250628T031145Z
LAST-MODIFIED:20250628T031422Z
UID:801-1749924000-1749931200@iiwc.in
SUMMARY:Sri Vijayachandrika Sangeetha Chandana - Music Program
DESCRIPTION:
URL:https://iiwc.in/event/sri-vijayachandrika-sangeetha-chandana-music-program/
LOCATION:Wadia Hall\, The Indian Institute of World Culture\, #6\, Shri B P Wadia Road\,\, Bangalore\, Karnataka\, 560004\, India
CATEGORIES:Cultural Programs
ATTACH;FMTTYPE=image/jpeg:https://iiwc.in/wp-content/uploads/2025/06/14Jun-Music.jpeg
END:VEVENT
BEGIN:VEVENT
DTSTART;TZID=UTC:20250613T180000
DTEND;TZID=UTC:20250613T200000
DTSTAMP:20260426T043707
CREATED:20250628T025951Z
LAST-MODIFIED:20250628T030503Z
UID:796-1749837600-1749844800@iiwc.in
SUMMARY:Bharatanatyam Dance Recital
DESCRIPTION:
URL:https://iiwc.in/event/bharatanatyam-dance-recital-3/
LOCATION:Wadia Hall\, The Indian Institute of World Culture\, #6\, Shri B P Wadia Road\,\, Bangalore\, Karnataka\, 560004\, India
CATEGORIES:Cultural Programs
ATTACH;FMTTYPE=image/jpeg:https://iiwc.in/wp-content/uploads/2025/06/8Jun-Dance.jpeg
END:VEVENT
BEGIN:VEVENT
DTSTART;VALUE=DATE:20250611
DTEND;VALUE=DATE:20250616
DTSTAMP:20260426T043707
CREATED:20250628T035749Z
LAST-MODIFIED:20250628T035831Z
UID:832-1749600000-1750031999@iiwc.in
SUMMARY:Vasantha Arts Group Show @ IIWC Art Gallery
DESCRIPTION:
URL:https://iiwc.in/event/vasantha-arts-group-show-iiwc-art-gallery/
LOCATION:Art Gallery\, Indian Institute of World Culture\, #6\, Shri B P Wadia Road\, Basavanagudi\, Bangalore\, Karnataka\, 560004\, India
CATEGORIES:Art Gallery
ATTACH;FMTTYPE=image/jpeg:https://iiwc.in/wp-content/uploads/2025/06/11-15June-ArtGallery.jpeg
END:VEVENT
BEGIN:VEVENT
DTSTART;TZID=UTC:20250609T103000
DTEND;TZID=UTC:20250612T203000
DTSTAMP:20260426T043707
CREATED:20250624T225141Z
LAST-MODIFIED:20250624T225141Z
UID:693-1749465000-1749760200@iiwc.in
SUMMARY:Chitra Bharathi” - Film Festival
DESCRIPTION:
URL:https://iiwc.in/event/chitra-bharathi-film-festival/
LOCATION:Wadia Hall\, The Indian Institute of World Culture\, #6\, Shri B P Wadia Road\,\, Bangalore\, Karnataka\, 560004\, India
CATEGORIES:Cultural Programs
ATTACH;FMTTYPE=image/jpeg:https://iiwc.in/wp-content/uploads/2025/06/WhatsApp-Image-2025-06-08-at-15.21.01_fed7bb7b.jpg
END:VEVENT
BEGIN:VEVENT
DTSTART;TZID=UTC:20250608T180000
DTEND;TZID=UTC:20250608T200000
DTSTAMP:20260426T043707
CREATED:20250625T011518Z
LAST-MODIFIED:20250625T011518Z
UID:745-1749405600-1749412800@iiwc.in
SUMMARY:Kannada Drama
DESCRIPTION:
URL:https://iiwc.in/event/kannada-drama-2/
LOCATION:Wadia Hall\, The Indian Institute of World Culture\, #6\, Shri B P Wadia Road\,\, Bangalore\, Karnataka\, 560004\, India
ATTACH;FMTTYPE=image/jpeg:https://iiwc.in/wp-content/uploads/2025/06/WhatsApp-Image-2025-06-07-at-11.15.53_57d9be4b.jpg
END:VEVENT
BEGIN:VEVENT
DTSTART;TZID=UTC:20250608T103000
DTEND;TZID=UTC:20250608T133000
DTSTAMP:20260426T043707
CREATED:20250625T000247Z
LAST-MODIFIED:20250625T000247Z
UID:738-1749378600-1749389400@iiwc.in
SUMMARY:Bharatanatyam Dance
DESCRIPTION:
URL:https://iiwc.in/event/bharatanatyam-dance/
LOCATION:Wadia Hall\, The Indian Institute of World Culture\, #6\, Shri B P Wadia Road\,\, Bangalore\, Karnataka\, 560004\, India
ATTACH;FMTTYPE=image/jpeg:https://iiwc.in/wp-content/uploads/2025/06/WhatsApp-Image-2025-06-07-at-10.18.34_e5556c3f.jpg
END:VEVENT
BEGIN:VEVENT
DTSTART;TZID=UTC:20250607T160000
DTEND;TZID=UTC:20250607T203000
DTSTAMP:20260426T043707
CREATED:20250624T232925Z
LAST-MODIFIED:20250624T232925Z
UID:726-1749312000-1749328200@iiwc.in
SUMMARY:Kannada Drama
DESCRIPTION:
URL:https://iiwc.in/event/kannada-drama/
LOCATION:Wadia Hall\, The Indian Institute of World Culture\, #6\, Shri B P Wadia Road\,\, Bangalore\, Karnataka\, 560004\, India
ATTACH;FMTTYPE=image/jpeg:https://iiwc.in/wp-content/uploads/2025/06/WhatsApp-Image-2025-06-05-at-11.10.19_84de8d6d-scaled.jpg
END:VEVENT
BEGIN:VEVENT
DTSTART;TZID=UTC:20250606T173000
DTEND;TZID=UTC:20250606T200000
DTSTAMP:20260426T043707
CREATED:20250624T231616Z
LAST-MODIFIED:20250624T231616Z
UID:721-1749231000-1749240000@iiwc.in
SUMMARY:Book Launch
DESCRIPTION:
URL:https://iiwc.in/event/book-launch/
LOCATION:Wadia Hall\, The Indian Institute of World Culture\, #6\, Shri B P Wadia Road\,\, Bangalore\, Karnataka\, 560004\, India
ATTACH;FMTTYPE=image/jpeg:https://iiwc.in/wp-content/uploads/2025/06/WhatsApp-Image-2025-06-05-at-18.36.49_4cf3ff5a.jpg
END:VEVENT
BEGIN:VEVENT
DTSTART;TZID=UTC:20250605T143000
DTEND;TZID=UTC:20250605T190000
DTSTAMP:20260426T043707
CREATED:20250624T231129Z
LAST-MODIFIED:20250624T231145Z
UID:715-1749133800-1749150000@iiwc.in
SUMMARY:Celebrating World Environment Day - 2025
DESCRIPTION:
URL:https://iiwc.in/event/celebrating-world-environment-day-2025/
LOCATION:Karnataka
ATTACH;FMTTYPE=image/jpeg:https://iiwc.in/wp-content/uploads/2025/06/WhatsApp-Image-2025-06-04-at-11.14.30_e87f041e.jpg
END:VEVENT
BEGIN:VEVENT
DTSTART;TZID=UTC:20250605T143000
DTEND;TZID=UTC:20250605T190000
DTSTAMP:20260426T043707
CREATED:20250624T032940Z
LAST-MODIFIED:20250624T033147Z
UID:685-1749133800-1749150000@iiwc.in
SUMMARY:Film Screening and Panel Discussion
DESCRIPTION:(In Collaboration with Bangalore Film Society) \nFilm Screening and Panel Discussion \nCelebrating World Environment Day – 2025 \nTheme : Grassroot Climate Stories
URL:https://iiwc.in/event/film-screening-and-panel-discussion/
LOCATION:Wadia Hall\, The Indian Institute of World Culture\, #6\, Shri B P Wadia Road\,\, Bangalore\, Karnataka\, 560004\, India
CATEGORIES:Cultural Programs
ATTACH;FMTTYPE=image/jpeg:https://iiwc.in/wp-content/uploads/2025/06/5June-FilmFestival-1.jpeg
END:VEVENT
BEGIN:VEVENT
DTSTART;TZID=UTC:20250602T173000
DTEND;TZID=UTC:20250602T203000
DTSTAMP:20260426T043707
CREATED:20250624T225847Z
LAST-MODIFIED:20250624T225926Z
UID:708-1748885400-1748896200@iiwc.in
SUMMARY:HSV ನುಡಿ ನಮನ ಕಾರ್ಯಕ್ರಮ
DESCRIPTION:
URL:https://iiwc.in/event/hsv-%e0%b2%a8%e0%b3%81%e0%b2%a1%e0%b2%bf-%e0%b2%a8%e0%b2%ae%e0%b2%a8-%e0%b2%95%e0%b2%be%e0%b2%b0%e0%b3%8d%e0%b2%af%e0%b2%95%e0%b3%8d%e0%b2%b0%e0%b2%ae/
LOCATION:Wadia Hall\, The Indian Institute of World Culture\, #6\, Shri B P Wadia Road\,\, Bangalore\, Karnataka\, 560004\, India
CATEGORIES:Cultural Programs
ATTACH;FMTTYPE=image/jpeg:https://iiwc.in/wp-content/uploads/2025/06/WhatsApp-Image-2025-06-02-at-13.30.46_38392607.jpg
END:VEVENT
BEGIN:VEVENT
DTSTART;TZID=UTC:20250601T161500
DTEND;TZID=UTC:20250601T161500
DTSTAMP:20260426T043707
CREATED:20250628T025453Z
LAST-MODIFIED:20250628T025623Z
UID:790-1748794500-1748794500@iiwc.in
SUMMARY:Drama Program - Team Prakasam
DESCRIPTION:
URL:https://iiwc.in/event/drama-program-team-prakasam/
LOCATION:Wadia Hall\, The Indian Institute of World Culture\, #6\, Shri B P Wadia Road\,\, Bangalore\, Karnataka\, 560004\, India
CATEGORIES:Theatre-Play
ATTACH;FMTTYPE=image/jpeg:https://iiwc.in/wp-content/uploads/2025/06/1June-Drama.jpeg
END:VEVENT
BEGIN:VEVENT
DTSTART;TZID=UTC:20250601T110000
DTEND;TZID=UTC:20250601T130000
DTSTAMP:20260426T043707
CREATED:20250624T031627Z
LAST-MODIFIED:20250624T032616Z
UID:678-1748775600-1748782800@iiwc.in
SUMMARY:Carnatic Vocal Concert
DESCRIPTION:Sri D. C. Reddappa Setty and Smt. D. C. Kamakshamma Memorial Program \nCarnatic Vocal Concert \nVocal : Vidwan Vinay Sharva \nViolin : Vidwan Raghu B K \nMridangam : Vidwan Anoor Vinod Shyam \nKonnakkol : Vidwan Somashekar Jois \nCollaboration : Shri D. Venkatesh Gupta
URL:https://iiwc.in/event/carnatic-vocal-concert-4/
LOCATION:Wadia Hall\, The Indian Institute of World Culture\, #6\, Shri B P Wadia Road\,\, Bangalore\, Karnataka\, 560004\, India
CATEGORIES:Cultural Programs
ATTACH;FMTTYPE=image/jpeg:https://iiwc.in/wp-content/uploads/2025/06/1June-Morning-Music.jpeg
END:VEVENT
BEGIN:VEVENT
DTSTART;TZID=UTC:20250531T180000
DTEND;TZID=UTC:20250531T213000
DTSTAMP:20260426T043707
CREATED:20250526T012918Z
LAST-MODIFIED:20250526T012918Z
UID:387-1748714400-1748727000@iiwc.in
SUMMARY:Karaoke Music Program
DESCRIPTION:Karaoke Music Program – Dr. Raj Songs
URL:https://iiwc.in/event/karaoke-music-program-2/
LOCATION:Karnataka
CATEGORIES:Cultural Programs
END:VEVENT
BEGIN:VEVENT
DTSTART;TZID=Asia/Kolkata:20250529T180000
DTEND;TZID=Asia/Kolkata:20250529T210000
DTSTAMP:20260426T043707
CREATED:20250523T045850Z
LAST-MODIFIED:20250526T013935Z
UID:265-1748541600-1748552400@iiwc.in
SUMMARY:Harikatha Keertana
DESCRIPTION: By: Kum. Sharvari Somayaji \nSri B. I. Nagaraj Memorial Programme
URL:https://iiwc.in/event/harikatha-keertana-by-kum-sharvari-somayaji/
LOCATION:Karnataka
CATEGORIES:Cultural Programs
ATTACH;FMTTYPE=image/jpeg:https://iiwc.in/wp-content/uploads/2025/05/83da10ef-9585-41b6-8e56-716949674a57.jpg
END:VEVENT
BEGIN:VEVENT
DTSTART;TZID=UTC:20250526T080000
DTEND;TZID=UTC:20250526T170000
DTSTAMP:20260426T043707
CREATED:20250526T011519Z
LAST-MODIFIED:20250526T011519Z
UID:344-1748246400-1748278800@iiwc.in
SUMMARY:Book Release Program
DESCRIPTION:Book Release Program \nAuthor : Sri B R Lakshman Rao
URL:https://iiwc.in/event/book-release-program-3/
LOCATION:Karnataka
CATEGORIES:Cultural Programs
END:VEVENT
BEGIN:VEVENT
DTSTART;TZID=UTC:20250524T180000
DTEND;TZID=UTC:20250524T210000
DTSTAMP:20260426T043707
CREATED:20250526T012643Z
LAST-MODIFIED:20250526T013644Z
UID:378-1748109600-1748120400@iiwc.in
SUMMARY:Carnatic Vocal Concert
DESCRIPTION:
URL:https://iiwc.in/event/carnatic-vocal-concert-3/
LOCATION:Karnataka
CATEGORIES:Cultural Programs
ATTACH;FMTTYPE=image/jpeg:https://iiwc.in/wp-content/uploads/2025/05/57188ae5-7b5f-410d-b59e-9357c25a8714.jpg
END:VEVENT
BEGIN:VEVENT
DTSTART;TZID=UTC:20250523T180000
DTEND;TZID=UTC:20250523T210000
DTSTAMP:20260426T043707
CREATED:20250526T012544Z
LAST-MODIFIED:20250526T013755Z
UID:373-1748023200-1748034000@iiwc.in
SUMMARY:Bharatanatyam Dance Program
DESCRIPTION:“Gejje Puje” \n Bharatanatyam Dance Program
URL:https://iiwc.in/event/bharatanatyam-dance-program/
LOCATION:Karnataka
CATEGORIES:Cultural Programs
ATTACH;FMTTYPE=image/jpeg:https://iiwc.in/wp-content/uploads/2025/05/d51a2350-0006-40d9-949f-d8f56119bf96.jpg
END:VEVENT
BEGIN:VEVENT
DTSTART;TZID=UTC:20250517T180000
DTEND;TZID=UTC:20250517T210000
DTSTAMP:20260426T043707
CREATED:20250526T011948Z
LAST-MODIFIED:20250526T012121Z
UID:358-1747504800-1747515600@iiwc.in
SUMMARY:Carnatic Vocal Concert
DESCRIPTION:Smt. M. Indiramma & Sri M. L. Venkataramaiah Memorial Programme \nCarnatic Vocal Concert \nVocal : Vidushi Smt. Kruthi Vittal  \nViolin : Vidushi Smt. Sindhu Suchethan  \nMridangam : Vidwan Sri N C Bharadwaj  \nKanjira : Vidwan Sri Sunaad Anoor
URL:https://iiwc.in/event/carnatic-vocal-concert-2/
LOCATION:Karnataka
CATEGORIES:Cultural Programs
ATTACH;FMTTYPE=image/jpeg:https://iiwc.in/wp-content/uploads/2025/05/17May-Music.jpeg
END:VEVENT
BEGIN:VEVENT
DTSTART;TZID=UTC:20250517T100000
DTEND;TZID=UTC:20250517T130000
DTSTAMP:20260426T043707
CREATED:20250526T011819Z
LAST-MODIFIED:20250526T011819Z
UID:350-1747476000-1747486800@iiwc.in
SUMMARY:Bharatanatyam Dance Recital
DESCRIPTION:Bharatanatyam Dance Recital \nBy : Kum. Kavya Avadhani
URL:https://iiwc.in/event/bharatanatyam-dance-recital/
LOCATION:Karnataka
END:VEVENT
END:VCALENDAR