BEGIN:VCALENDAR
VERSION:2.0
PRODID:-//IIWC - ECPv6.13.2.1//NONSGML v1.0//EN
CALSCALE:GREGORIAN
METHOD:PUBLISH
X-WR-CALNAME:IIWC
X-ORIGINAL-URL:https://iiwc.in
X-WR-CALDESC:Events for IIWC
REFRESH-INTERVAL;VALUE=DURATION:PT1H
X-Robots-Tag:noindex
X-PUBLISHED-TTL:PT1H
BEGIN:VTIMEZONE
TZID:UTC
BEGIN:STANDARD
TZOFFSETFROM:+0000
TZOFFSETTO:+0000
TZNAME:UTC
DTSTART:20250101T000000
END:STANDARD
END:VTIMEZONE
BEGIN:VEVENT
DTSTART;TZID=UTC:20251010T180000
DTEND;TZID=UTC:20251010T200000
DTSTAMP:20260425T213357
CREATED:20251009T010047Z
LAST-MODIFIED:20251009T010047Z
UID:1218-1760119200-1760126400@iiwc.in
SUMMARY:Bharatanatyam Dance Recital - Chithkala School of Dance
DESCRIPTION:
URL:https://iiwc.in/event/bharatanatyam-dance-recital-chithkala-school-of-dance/
LOCATION:Wadia Hall\, The Indian Institute of World Culture\, #6\, Shri B P Wadia Road\,\, Bangalore\, Karnataka\, 560004\, India
CATEGORIES:Cultural Programs
END:VEVENT
BEGIN:VEVENT
DTSTART;TZID=UTC:20251009T180000
DTEND;TZID=UTC:20251009T213000
DTSTAMP:20260425T213357
CREATED:20251008T232412Z
LAST-MODIFIED:20251008T232450Z
UID:1205-1760032800-1760045400@iiwc.in
SUMMARY:Lecture - In commemoration of B P Wadia and S A Dange
DESCRIPTION:
URL:https://iiwc.in/event/lecture-in-commemoration-of-b-p-wadia-and-s-a-dange/
LOCATION:Wadia Hall\, The Indian Institute of World Culture\, #6\, Shri B P Wadia Road\,\, Bangalore\, Karnataka\, 560004\, India
CATEGORIES:Lecture
ATTACH;FMTTYPE=image/jpeg:https://iiwc.in/wp-content/uploads/2025/10/9Oct-LEcture.jpeg
END:VEVENT
BEGIN:VEVENT
DTSTART;TZID=UTC:20251005T180000
DTEND;TZID=UTC:20251005T200000
DTSTAMP:20260425T213358
CREATED:20251009T011823Z
LAST-MODIFIED:20251009T011823Z
UID:1232-1759687200-1759694400@iiwc.in
SUMMARY:Bharatanatyam Dance Recital - Sri Purandara International Trust
DESCRIPTION:
URL:https://iiwc.in/event/bharatanatyam-dance-recital-sri-purandara-international-trust/
LOCATION:Wadia Hall\, The Indian Institute of World Culture\, #6\, Shri B P Wadia Road\,\, Bangalore\, Karnataka\, 560004\, India
CATEGORIES:Cultural Programs
ATTACH;FMTTYPE=image/jpeg:https://iiwc.in/wp-content/uploads/2025/10/5Oct-Dance.jpeg
END:VEVENT
BEGIN:VEVENT
DTSTART;TZID=UTC:20250928T180000
DTEND;TZID=UTC:20250928T200000
DTSTAMP:20260425T213358
CREATED:20250901T235014Z
LAST-MODIFIED:20250901T235014Z
UID:1144-1759082400-1759089600@iiwc.in
SUMMARY:Vijayachandrika Kala - Sangha Karaoke Music Program
DESCRIPTION:
URL:https://iiwc.in/event/vijayachandrika-kala-sangha-karaoke-music-program/
LOCATION:Wadia Hall\, The Indian Institute of World Culture\, #6\, Shri B P Wadia Road\,\, Bangalore\, Karnataka\, 560004\, India
CATEGORIES:Cultural Programs
END:VEVENT
BEGIN:VEVENT
DTSTART;TZID=UTC:20250928T100000
DTEND;TZID=UTC:20250928T123000
DTSTAMP:20260425T213358
CREATED:20250901T234841Z
LAST-MODIFIED:20250901T234841Z
UID:1139-1759053600-1759062600@iiwc.in
SUMMARY:Ankita Pustaka - Book Release Program
DESCRIPTION:
URL:https://iiwc.in/event/ankita-pustaka-book-release-program-2/
LOCATION:Wadia Hall\, The Indian Institute of World Culture\, #6\, Shri B P Wadia Road\,\, Bangalore\, Karnataka\, 560004\, India
CATEGORIES:Book Release
END:VEVENT
BEGIN:VEVENT
DTSTART;TZID=UTC:20250924T100000
DTEND;TZID=UTC:20250927T190000
DTSTAMP:20260425T213358
CREATED:20250901T232124Z
LAST-MODIFIED:20250918T033629Z
UID:1095-1758708000-1758999600@iiwc.in
SUMMARY:Film Festival - "Voices of water" September  24th  - September  27th
DESCRIPTION:
URL:https://iiwc.in/event/film-festival-voices-of-water-september-24th-september-27th/
LOCATION:Wadia Hall\, The Indian Institute of World Culture\, #6\, Shri B P Wadia Road\,\, Bangalore\, Karnataka\, 560004\, India
CATEGORIES:Cultural Programs
ATTACH;FMTTYPE=image/jpeg:https://iiwc.in/wp-content/uploads/2025/09/24-27-FilmFestival.jpeg
END:VEVENT
BEGIN:VEVENT
DTSTART;TZID=UTC:20250923T180000
DTEND;TZID=UTC:20250923T200000
DTSTAMP:20260425T213358
CREATED:20250901T234514Z
LAST-MODIFIED:20250918T033501Z
UID:1135-1758650400-1758657600@iiwc.in
SUMMARY:Azim Premji University – Cultural Program
DESCRIPTION:
URL:https://iiwc.in/event/azim-premji-university-cultural-program-2/
LOCATION:Wadia Hall\, The Indian Institute of World Culture\, #6\, Shri B P Wadia Road\,\, Bangalore\, Karnataka\, 560004\, India
CATEGORIES:Cultural Programs
ATTACH;FMTTYPE=image/jpeg:https://iiwc.in/wp-content/uploads/2025/09/23Sept-LEcture.jpeg
END:VEVENT
BEGIN:VEVENT
DTSTART;VALUE=DATE:20250923
DTEND;VALUE=DATE:20250930
DTSTAMP:20260425T213358
CREATED:20250902T000327Z
LAST-MODIFIED:20250902T000327Z
UID:1166-1758585600-1759190399@iiwc.in
SUMMARY:"Voices of Water" Group Exhibition
DESCRIPTION:
URL:https://iiwc.in/event/voices-of-water-group-exhibition/
LOCATION:Art Gallery\, Indian Institute of World Culture\, #6\, Shri B P Wadia Road\, Basavanagudi\, Bangalore\, Karnataka\, 560004\, India
CATEGORIES:Art Gallery
END:VEVENT
BEGIN:VEVENT
DTSTART;TZID=UTC:20250921T180000
DTEND;TZID=UTC:20250921T200000
DTSTAMP:20260425T213358
CREATED:20250901T234339Z
LAST-MODIFIED:20250901T234416Z
UID:1131-1758477600-1758484800@iiwc.in
SUMMARY:ಯಕ್ಷಗಾನ ಕಾರ್ಯಕ್ರಮ -  ಯಕ್ಷ ಸಿಂಚನ ಟ್ರಸ್ಟ್ ರವರಿಂದ
DESCRIPTION:
URL:https://iiwc.in/event/%e0%b2%af%e0%b2%95%e0%b3%8d%e0%b2%b7%e0%b2%97%e0%b2%be%e0%b2%a8-%e0%b2%95%e0%b2%be%e0%b2%b0%e0%b3%8d%e0%b2%af%e0%b2%95%e0%b3%8d%e0%b2%b0%e0%b2%ae-%e0%b2%af%e0%b2%95%e0%b3%8d%e0%b2%b7-%e0%b2%b8/
LOCATION:Wadia Hall\, The Indian Institute of World Culture\, #6\, Shri B P Wadia Road\,\, Bangalore\, Karnataka\, 560004\, India
CATEGORIES:Cultural Programs
END:VEVENT
BEGIN:VEVENT
DTSTART;TZID=UTC:20250921T103000
DTEND;TZID=UTC:20250921T123000
DTSTAMP:20260425T213358
CREATED:20250901T231923Z
LAST-MODIFIED:20250918T034449Z
UID:1091-1758450600-1758457800@iiwc.in
SUMMARY:Smt V. Radhabai and Sri V. Vasudevamurthy Memorial Program
DESCRIPTION:Film Screening – “The Word and the teacher\, Ferdinand Kittel”   \n“ಅರಿವು ಮತ್ತು ಗುರುವು“\, a trilingual film \nFilm Director : Prashanth Pandit
URL:https://iiwc.in/event/smt-v-radhabai-and-sri-v-vasudevamurthy-memorial-program/
LOCATION:Wadia Hall\, The Indian Institute of World Culture\, #6\, Shri B P Wadia Road\,\, Bangalore\, Karnataka\, 560004\, India
CATEGORIES:Cultural Programs
ATTACH;FMTTYPE=image/jpeg:https://iiwc.in/wp-content/uploads/2025/09/21Sept-Film.jpeg
END:VEVENT
BEGIN:VEVENT
DTSTART;TZID=UTC:20250920T180000
DTEND;TZID=UTC:20250920T200000
DTSTAMP:20260425T213358
CREATED:20250901T233924Z
LAST-MODIFIED:20250918T033904Z
UID:1125-1758391200-1758398400@iiwc.in
SUMMARY:Nagachandrika Kala Sangha - Karaoke Music Programme
DESCRIPTION:
URL:https://iiwc.in/event/nagachandrika-kala-sangha-karaoke-music-programme/
LOCATION:Wadia Hall\, The Indian Institute of World Culture\, #6\, Shri B P Wadia Road\,\, Bangalore\, Karnataka\, 560004\, India
CATEGORIES:Cultural Programs
ATTACH;FMTTYPE=image/jpeg:https://iiwc.in/wp-content/uploads/2025/09/20Sept-Music.jpeg
END:VEVENT
BEGIN:VEVENT
DTSTART;TZID=UTC:20250920T090000
DTEND;TZID=UTC:20250920T123000
DTSTAMP:20260425T213358
CREATED:20250918T035012Z
LAST-MODIFIED:20250918T035053Z
UID:1187-1758358800-1758371400@iiwc.in
SUMMARY:Seere Talks (ಸೀರೆ) Master Class – Bharat’s 9 Yard Story
DESCRIPTION:
URL:https://iiwc.in/event/seere-talks-%e0%b2%b8%e0%b3%80%e0%b2%b0%e0%b3%86-master-class-bharats-9-yard-story/
LOCATION:Wadia Hall\, The Indian Institute of World Culture\, #6\, Shri B P Wadia Road\,\, Bangalore\, Karnataka\, 560004\, India
CATEGORIES:Lecture
ATTACH;FMTTYPE=image/jpeg:https://iiwc.in/wp-content/uploads/2025/09/20Sept-Misc.jpeg
END:VEVENT
BEGIN:VEVENT
DTSTART;TZID=UTC:20250919T180000
DTEND;TZID=UTC:20250919T200000
DTSTAMP:20260425T213358
CREATED:20250901T231812Z
LAST-MODIFIED:20250918T035634Z
UID:1087-1758304800-1758312000@iiwc.in
SUMMARY:ಕುಮಾರಿ ಅಚಲಾ ರಮೇಶ್  ಸ್ಮರಣಾರ್ಥ ಕಾರ್ಯಕ್ರಮ
DESCRIPTION:
URL:https://iiwc.in/event/%e0%b2%95%e0%b3%81%e0%b2%ae%e0%b2%be%e0%b2%b0%e0%b2%bf-%e0%b2%85%e0%b2%9a%e0%b2%b2%e0%b2%be-%e0%b2%b0%e0%b2%ae%e0%b3%87%e0%b2%b6%e0%b3%8d-%e0%b2%b8%e0%b3%8d%e0%b2%ae%e0%b2%b0%e0%b2%a3%e0%b2%be/
LOCATION:Wadia Hall\, The Indian Institute of World Culture\, #6\, Shri B P Wadia Road\,\, Bangalore\, Karnataka\, 560004\, India
CATEGORIES:Cultural Programs
ATTACH;FMTTYPE=image/jpeg:https://iiwc.in/wp-content/uploads/2025/09/19Sept-MagicShow.jpeg
END:VEVENT
BEGIN:VEVENT
DTSTART;VALUE=DATE:20250918
DTEND;VALUE=DATE:20250922
DTSTAMP:20260425T213358
CREATED:20250902T000151Z
LAST-MODIFIED:20250918T035420Z
UID:1162-1758153600-1758499199@iiwc.in
SUMMARY:Raju Puducheri and Team - Group Exhibition
DESCRIPTION:
URL:https://iiwc.in/event/raju-puducheri-and-team-group-exhibition/
LOCATION:Art Gallery\, Indian Institute of World Culture\, #6\, Shri B P Wadia Road\, Basavanagudi\, Bangalore\, Karnataka\, 560004\, India
CATEGORIES:Art Gallery
END:VEVENT
BEGIN:VEVENT
DTSTART;TZID=UTC:20250914T180000
DTEND;TZID=UTC:20250914T200000
DTSTAMP:20260425T213358
CREATED:20250901T233750Z
LAST-MODIFIED:20250918T042250Z
UID:1120-1757872800-1757880000@iiwc.in
SUMMARY:Bharatanatyam Dance Recital By : Kum. Sheethal
DESCRIPTION:
URL:https://iiwc.in/event/bharatanatyam-dance-recital-by-kum-sheethal/
LOCATION:Wadia Hall\, The Indian Institute of World Culture\, #6\, Shri B P Wadia Road\,\, Bangalore\, Karnataka\, 560004\, India
CATEGORIES:Cultural Programs
ATTACH;FMTTYPE=image/jpeg:https://iiwc.in/wp-content/uploads/2025/09/14Sept-Dance.jpeg
END:VEVENT
BEGIN:VEVENT
DTSTART;TZID=UTC:20250914T100000
DTEND;TZID=UTC:20250914T120000
DTSTAMP:20260425T213358
CREATED:20250901T233652Z
LAST-MODIFIED:20250901T233652Z
UID:1116-1757844000-1757851200@iiwc.in
SUMMARY:Book Release Programme – Sri Nagathihalli Jayaprakash
DESCRIPTION:
URL:https://iiwc.in/event/book-release-programme-sri-nagathihalli-jayaprakash/
LOCATION:Wadia Hall\, The Indian Institute of World Culture\, #6\, Shri B P Wadia Road\,\, Bangalore\, Karnataka\, 560004\, India
CATEGORIES:Book Release
END:VEVENT
BEGIN:VEVENT
DTSTART;VALUE=DATE:20250914
DTEND;VALUE=DATE:20250918
DTSTAMP:20260425T213358
CREATED:20250901T235720Z
LAST-MODIFIED:20250901T235720Z
UID:1158-1757808000-1758153599@iiwc.in
SUMMARY:Sir MV : 110 years of Knighthood & 70 years of Bharata Ratna
DESCRIPTION:
URL:https://iiwc.in/event/sir-mv-110-years-of-knighthood-70-years-of-bharata-ratna/
LOCATION:Art Gallery\, Indian Institute of World Culture\, #6\, Shri B P Wadia Road\, Basavanagudi\, Bangalore\, Karnataka\, 560004\, India
CATEGORIES:Art Gallery
END:VEVENT
BEGIN:VEVENT
DTSTART;TZID=UTC:20250912T180000
DTEND;TZID=UTC:20250912T200000
DTSTAMP:20260425T213358
CREATED:20250901T231657Z
LAST-MODIFIED:20250918T043001Z
UID:1083-1757700000-1757707200@iiwc.in
SUMMARY:Renaissance Artists and Writers Association (RAWA) Cultural Programme
DESCRIPTION:
URL:https://iiwc.in/event/renaissance-artists-and-writers-association-rawa-cultural-programme/
LOCATION:Wadia Hall\, The Indian Institute of World Culture\, #6\, Shri B P Wadia Road\,\, Bangalore\, Karnataka\, 560004\, India
CATEGORIES:Cultural Programs
ATTACH;FMTTYPE=image/jpeg:https://iiwc.in/wp-content/uploads/2025/09/12Sept-Dance.jpeg
END:VEVENT
BEGIN:VEVENT
DTSTART;TZID=UTC:20250910T173000
DTEND;TZID=UTC:20250910T200000
DTSTAMP:20260425T213358
CREATED:20250901T231546Z
LAST-MODIFIED:20250901T231546Z
UID:1079-1757525400-1757534400@iiwc.in
SUMMARY:AVOPA and Smt. Kamalanjini Award Presentation Programme
DESCRIPTION:
URL:https://iiwc.in/event/avopa-and-smt-kamalanjini-award-presentation-programme/
LOCATION:Wadia Hall\, The Indian Institute of World Culture\, #6\, Shri B P Wadia Road\,\, Bangalore\, Karnataka\, 560004\, India
END:VEVENT
BEGIN:VEVENT
DTSTART;VALUE=DATE:20250908
DTEND;VALUE=DATE:20250914
DTSTAMP:20260425T213358
CREATED:20250901T235632Z
LAST-MODIFIED:20250901T235632Z
UID:1154-1757289600-1757807999@iiwc.in
SUMMARY:Celebrating 3 Legends of Indian Cinema - September 8th - 13th
DESCRIPTION:
URL:https://iiwc.in/event/celebrating-3-legends-of-indian-cinema-september-8th-13th/
LOCATION:Art Gallery\, Indian Institute of World Culture\, #6\, Shri B P Wadia Road\, Basavanagudi\, Bangalore\, Karnataka\, 560004\, India
CATEGORIES:Art Gallery
END:VEVENT
BEGIN:VEVENT
DTSTART;TZID=UTC:20250907T173000
DTEND;TZID=UTC:20250907T200000
DTSTAMP:20260425T213358
CREATED:20250901T233536Z
LAST-MODIFIED:20250901T233536Z
UID:1111-1757266200-1757275200@iiwc.in
SUMMARY:Sri M A Narasimhachar Memorial Programme - Grand Violin Duet Concert
DESCRIPTION:Violin : Vid. Sumanth Manjunath and Vid. Malavi Manjunath \nMridangam : Vid. Tumkur B Ravishankar \nGhata : Vid. Omkar
URL:https://iiwc.in/event/sri-m-a-narasimhachar-memorial-programme-grand-violin-duet-concert/
LOCATION:Wadia Hall\, The Indian Institute of World Culture\, #6\, Shri B P Wadia Road\,\, Bangalore\, Karnataka\, 560004\, India
ATTACH;FMTTYPE=image/jpeg:https://iiwc.in/wp-content/uploads/2025/09/7Sept-Music.jpeg
END:VEVENT
BEGIN:VEVENT
DTSTART;TZID=UTC:20250907T100000
DTEND;TZID=UTC:20250907T130000
DTSTAMP:20260425T213358
CREATED:20250901T232717Z
LAST-MODIFIED:20250918T040034Z
UID:1107-1757239200-1757250000@iiwc.in
SUMMARY:Ankita Pustaka - Book Release Program
DESCRIPTION:
URL:https://iiwc.in/event/ankita-pustaka-book-release-program/
LOCATION:Wadia Hall\, The Indian Institute of World Culture\, #6\, Shri B P Wadia Road\,\, Bangalore\, Karnataka\, 560004\, India
CATEGORIES:Book Release
ATTACH;FMTTYPE=image/jpeg:https://iiwc.in/wp-content/uploads/2025/09/7Sept-BookRelease.jpeg
END:VEVENT
BEGIN:VEVENT
DTSTART;TZID=UTC:20250906T180000
DTEND;TZID=UTC:20250906T203000
DTSTAMP:20260425T213358
CREATED:20250901T232600Z
LAST-MODIFIED:20250918T042903Z
UID:1103-1757181600-1757190600@iiwc.in
SUMMARY:Sidewing Cultural Trust - Kannada Drama
DESCRIPTION:
URL:https://iiwc.in/event/sidewing-cultural-trust-kannada-drama/
LOCATION:Wadia Hall\, The Indian Institute of World Culture\, #6\, Shri B P Wadia Road\,\, Bangalore\, Karnataka\, 560004\, India
CATEGORIES:Theatre-Play
ATTACH;FMTTYPE=image/jpeg:https://iiwc.in/wp-content/uploads/2025/09/6Sept-Drama.jpeg
END:VEVENT
BEGIN:VEVENT
DTSTART;TZID=UTC:20250905T180000
DTEND;TZID=UTC:20250905T200000
DTSTAMP:20260425T213358
CREATED:20250901T232414Z
LAST-MODIFIED:20250918T042842Z
UID:1099-1757095200-1757102400@iiwc.in
SUMMARY:Bharatanatyam Dance Recital By. Kum. Sanjana Gogate
DESCRIPTION:
URL:https://iiwc.in/event/bharatanatyam-dance-recital-by-kum-sanjana-gogate/
LOCATION:Wadia Hall\, The Indian Institute of World Culture\, #6\, Shri B P Wadia Road\,\, Bangalore\, Karnataka\, 560004\, India
CATEGORIES:Cultural Programs
ATTACH;FMTTYPE=image/jpeg:https://iiwc.in/wp-content/uploads/2025/09/5Sept-Dance.jpeg
END:VEVENT
BEGIN:VEVENT
DTSTART;VALUE=DATE:20250902
DTEND;VALUE=DATE:20250908
DTSTAMP:20260425T213358
CREATED:20250901T235445Z
LAST-MODIFIED:20250901T235445Z
UID:1149-1756771200-1757289599@iiwc.in
SUMMARY:Akanksha Group Exhibition September 2nd - 7th
DESCRIPTION:
URL:https://iiwc.in/event/akanksha-group-exhibition-september-2nd-7th/
LOCATION:Art Gallery\, Indian Institute of World Culture\, #6\, Shri B P Wadia Road\, Basavanagudi\, Bangalore\, Karnataka\, 560004\, India
CATEGORIES:Art Gallery
ATTACH;FMTTYPE=image/jpeg:https://iiwc.in/wp-content/uploads/2025/09/2-7Sept-ArtGallery.jpeg
END:VEVENT
BEGIN:VEVENT
DTSTART;TZID=UTC:20250829T180000
DTEND;TZID=UTC:20250829T200000
DTSTAMP:20260425T213358
CREATED:20250813T234219Z
LAST-MODIFIED:20250813T234219Z
UID:1064-1756490400-1756497600@iiwc.in
SUMMARY:Bharatanatyam Dance Recital - The Nirali Collective
DESCRIPTION:
URL:https://iiwc.in/event/bharatanatyam-dance-recital-the-nirali-collective/
LOCATION:Wadia Hall\, The Indian Institute of World Culture\, #6\, Shri B P Wadia Road\,\, Bangalore\, Karnataka\, 560004\, India
CATEGORIES:Cultural Programs
ATTACH;FMTTYPE=image/jpeg:https://iiwc.in/wp-content/uploads/2025/08/29Aug-Dance-scaled.jpeg
END:VEVENT
BEGIN:VEVENT
DTSTART;TZID=UTC:20250828T180000
DTEND;TZID=UTC:20250828T200000
DTSTAMP:20260425T213358
CREATED:20250806T040736Z
LAST-MODIFIED:20250813T231911Z
UID:997-1756404000-1756411200@iiwc.in
SUMMARY:ಉಪನ್ಯಾಸ ಕಾರ್ಯಕ್ರಮ
DESCRIPTION:
URL:https://iiwc.in/event/%e0%b2%89%e0%b2%aa%e0%b2%a8%e0%b3%8d%e0%b2%af%e0%b2%be%e0%b2%b8-%e0%b2%95%e0%b2%be%e0%b2%b0%e0%b3%8d%e0%b2%af%e0%b2%95%e0%b3%8d%e0%b2%b0%e0%b2%ae/
LOCATION:Wadia Hall\, The Indian Institute of World Culture\, #6\, Shri B P Wadia Road\,\, Bangalore\, Karnataka\, 560004\, India
CATEGORIES:Lecture
ATTACH;FMTTYPE=image/jpeg:https://iiwc.in/wp-content/uploads/2025/08/28Aug-LEcture.jpeg
END:VEVENT
BEGIN:VEVENT
DTSTART;TZID=UTC:20250824T100000
DTEND;TZID=UTC:20250824T133000
DTSTAMP:20260425T213358
CREATED:20250813T233657Z
LAST-MODIFIED:20250813T233657Z
UID:1060-1756029600-1756042200@iiwc.in
SUMMARY:Book Release Program - Sawanna Publications
DESCRIPTION:
URL:https://iiwc.in/event/book-release-program-sawanna-publications/
LOCATION:Wadia Hall\, The Indian Institute of World Culture\, #6\, Shri B P Wadia Road\,\, Bangalore\, Karnataka\, 560004\, India
CATEGORIES:Book Release
END:VEVENT
BEGIN:VEVENT
DTSTART;TZID=UTC:20250821T180000
DTEND;TZID=UTC:20250821T200000
DTSTAMP:20260425T213358
CREATED:20250806T040528Z
LAST-MODIFIED:20250813T231454Z
UID:993-1755799200-1755806400@iiwc.in
SUMMARY:Photo Exhibition and Lecture Program
DESCRIPTION:
URL:https://iiwc.in/event/photo-exhibition-and-lecture-program/
LOCATION:Wadia Hall\, The Indian Institute of World Culture\, #6\, Shri B P Wadia Road\,\, Bangalore\, Karnataka\, 560004\, India
CATEGORIES:Lecture
ATTACH;FMTTYPE=image/jpeg:https://iiwc.in/wp-content/uploads/2025/08/21Aug-Lecture.jpeg
END:VEVENT
BEGIN:VEVENT
DTSTART;TZID=UTC:20250820T180000
DTEND;TZID=UTC:20250820T200000
DTSTAMP:20260425T213358
CREATED:20250806T040335Z
LAST-MODIFIED:20250806T040352Z
UID:989-1755712800-1755720000@iiwc.in
SUMMARY:ಸಂಸ್ಥಾಪಕರ ದಿನಾಚರಣೆ (Founder’s Day Celebrations)
DESCRIPTION:ಹರಟೆ ಕಾರ್ಯಕ್ರಮ \nವಿಷಯ: ಸಂಸ್ಕೃತಿ – ಸಂಸಾರ\, ಸಂಸ್ಥೆ\, ಸಮಾಜ \nಶ್ರೀ  ಎಮ್. ಎಸ್ ನರಸಿಂಹ ಮೂರ್ತಿ  \nಮತ್ತು  \nಶ್ರೀ  ವೈ ವಿ ಗುಂಡು ರಾವ್
URL:https://iiwc.in/event/%e0%b2%b8%e0%b2%82%e0%b2%b8%e0%b3%8d%e0%b2%a5%e0%b2%be%e0%b2%aa%e0%b2%95%e0%b2%b0-%e0%b2%a6%e0%b2%bf%e0%b2%a8%e0%b2%be%e0%b2%9a%e0%b2%b0%e0%b2%a3%e0%b3%86-founders-day-celebrations/
LOCATION:Wadia Hall\, The Indian Institute of World Culture\, #6\, Shri B P Wadia Road\,\, Bangalore\, Karnataka\, 560004\, India
END:VEVENT
END:VCALENDAR