BEGIN:VCALENDAR
VERSION:2.0
PRODID:-//IIWC - ECPv6.13.2.1//NONSGML v1.0//EN
CALSCALE:GREGORIAN
METHOD:PUBLISH
X-WR-CALNAME:IIWC
X-ORIGINAL-URL:https://iiwc.in
X-WR-CALDESC:Events for IIWC
REFRESH-INTERVAL;VALUE=DURATION:PT1H
X-Robots-Tag:noindex
X-PUBLISHED-TTL:PT1H
BEGIN:VTIMEZONE
TZID:UTC
BEGIN:STANDARD
TZOFFSETFROM:+0000
TZOFFSETTO:+0000
TZNAME:UTC
DTSTART:20250101T000000
END:STANDARD
END:VTIMEZONE
BEGIN:VEVENT
DTSTART;TZID=UTC:20250504T100000
DTEND;TZID=UTC:20250504T130000
DTSTAMP:20260426T095048
CREATED:20250523T050555Z
LAST-MODIFIED:20250523T050555Z
UID:277-1746352800-1746363600@iiwc.in
SUMMARY:Book Release Program
DESCRIPTION:
URL:https://iiwc.in/event/book-release-program/
LOCATION:Karnataka
CATEGORIES:Cultural Programs
END:VEVENT
BEGIN:VEVENT
DTSTART;TZID=UTC:20250501T180000
DTEND;TZID=UTC:20250501T210000
DTSTAMP:20260426T095048
CREATED:20250523T050147Z
LAST-MODIFIED:20250523T050147Z
UID:269-1746122400-1746133200@iiwc.in
SUMMARY:Ananth Padmanabha Pathak Musical Programme
DESCRIPTION:Yaksha Samithi Trust
URL:https://iiwc.in/event/ananth-padmanabha-pathak-musical-programme/
LOCATION:Karnataka
CATEGORIES:Cultural Programs
END:VEVENT
END:VCALENDAR