BEGIN:VCALENDAR
VERSION:2.0
PRODID:-//IIWC - ECPv6.13.2.1//NONSGML v1.0//EN
CALSCALE:GREGORIAN
METHOD:PUBLISH
X-ORIGINAL-URL:https://iiwc.in
X-WR-CALDESC:Events for IIWC
REFRESH-INTERVAL;VALUE=DURATION:PT1H
X-Robots-Tag:noindex
X-PUBLISHED-TTL:PT1H
BEGIN:VTIMEZONE
TZID:Asia/Kolkata
BEGIN:STANDARD
TZOFFSETFROM:+0530
TZOFFSETTO:+0530
TZNAME:IST
DTSTART:20260101T000000
END:STANDARD
END:VTIMEZONE
BEGIN:VTIMEZONE
TZID:UTC
BEGIN:STANDARD
TZOFFSETFROM:+0000
TZOFFSETTO:+0000
TZNAME:UTC
DTSTART:20250101T000000
END:STANDARD
END:VTIMEZONE
BEGIN:VTIMEZONE
TZID:Asia/Kolkata
BEGIN:STANDARD
TZOFFSETFROM:+0530
TZOFFSETTO:+0530
TZNAME:IST
DTSTART:20260101T000000
END:STANDARD
END:VTIMEZONE
BEGIN:VEVENT
DTSTART;TZID=Asia/Kolkata:20260418T170000
DTEND;TZID=Asia/Kolkata:20260418T200000
DTSTAMP:20260422T004016
CREATED:20260404T082251Z
LAST-MODIFIED:20260404T082251Z
UID:1628-1776531600-1776542400@iiwc.in
SUMMARY:“Kapoor’s Legacy” - Karaoke Music Program
DESCRIPTION:
URL:https://iiwc.in/event/kapoors-legacy-karaoke-music-program/
LOCATION:Wadia Hall\, The Indian Institute of World Culture\, #6\, Shri B P Wadia Road\,\, Bangalore\, Karnataka\, 560004\, India
CATEGORIES:Cultural Programs
END:VEVENT
BEGIN:VEVENT
DTSTART;TZID=Asia/Kolkata:20260417T180000
DTEND;TZID=Asia/Kolkata:20260417T200000
DTSTAMP:20260422T004016
CREATED:20260404T082142Z
LAST-MODIFIED:20260414T060302Z
UID:1624-1776448800-1776456000@iiwc.in
SUMMARY:“Sahitya Sahavasa” Cultural  Program by Azim Premji University
DESCRIPTION:
URL:https://iiwc.in/event/sahitya-sahavasa-cultural-program-by-azim-premji-university/
LOCATION:Wadia Hall\, The Indian Institute of World Culture\, #6\, Shri B P Wadia Road\,\, Bangalore\, Karnataka\, 560004\, India
CATEGORIES:Cultural Programs
ATTACH;FMTTYPE=image/jpeg:https://iiwc.in/wp-content/uploads/2026/04/17Apr-Misc.jpeg
END:VEVENT
BEGIN:VEVENT
DTSTART;TZID=Asia/Kolkata:20260405T100000
DTEND;TZID=Asia/Kolkata:20260405T130000
DTSTAMP:20260422T004016
CREATED:20260404T075931Z
LAST-MODIFIED:20260404T075931Z
UID:1590-1775383200-1775394000@iiwc.in
SUMMARY:“Vedanta Shravana” Aham Brahmaasmi oundation
DESCRIPTION:
URL:https://iiwc.in/event/vedanta-shravana-aham-brahmaasmi-oundation/
LOCATION:Wadia Hall\, The Indian Institute of World Culture\, #6\, Shri B P Wadia Road\,\, Bangalore\, Karnataka\, 560004\, India
CATEGORIES:Cultural Programs
ATTACH;FMTTYPE=image/jpeg:https://iiwc.in/wp-content/uploads/2026/04/5Apr-Misc.jpeg
END:VEVENT
BEGIN:VEVENT
DTSTART;TZID=UTC:20260331T180000
DTEND;TZID=UTC:20260331T200000
DTSTAMP:20260422T004016
CREATED:20260228T030640Z
LAST-MODIFIED:20260228T030640Z
UID:1531-1774980000-1774987200@iiwc.in
SUMMARY:Samarpanam Presents Carnatic Music Program
DESCRIPTION:
URL:https://iiwc.in/event/samarpanam-presents-carnatic-music-program/
LOCATION:Wadia Hall\, The Indian Institute of World Culture\, #6\, Shri B P Wadia Road\,\, Bangalore\, Karnataka\, 560004\, India
CATEGORIES:Cultural Programs
END:VEVENT
BEGIN:VEVENT
DTSTART;TZID=UTC:20260329T180000
DTEND;TZID=UTC:20260329T200000
DTSTAMP:20260422T004016
CREATED:20260228T030543Z
LAST-MODIFIED:20260228T030543Z
UID:1527-1774807200-1774814400@iiwc.in
SUMMARY:Heartbeats Presents Karaoke Music Program
DESCRIPTION:
URL:https://iiwc.in/event/heartbeats-presents-karaoke-music-program/
LOCATION:Wadia Hall\, The Indian Institute of World Culture\, #6\, Shri B P Wadia Road\,\, Bangalore\, Karnataka\, 560004\, India
CATEGORIES:Cultural Programs
END:VEVENT
BEGIN:VEVENT
DTSTART;TZID=Asia/Kolkata:20260327T180000
DTEND;TZID=Asia/Kolkata:20260327T203000
DTSTAMP:20260422T004016
CREATED:20260301T051411Z
LAST-MODIFIED:20260301T091026Z
UID:1540-1774634400-1774643400@iiwc.in
SUMMARY:NĀYIKA\, a National Dance Festival celebrating Womanhood!
DESCRIPTION:shambhavi_school_of_dance\n\nWe are back with NĀYIKA\, a National Dance Festival celebrating Womanhood!\n\n\nCurated by Guru Smt @vyjayanthikashi and organised by @shambhavi_school_of_dance.\nSave the date! \n#nayika #dancefestival #bangaloreevents #indianclassicaldance #dance
URL:https://iiwc.in/event/nayika-a-national-dance-festival-celebrating-womanhood/
LOCATION:Wadia Hall\, The Indian Institute of World Culture\, #6\, Shri B P Wadia Road\,\, Bangalore\, Karnataka\, 560004\, India
CATEGORIES:Bharata Natyam
END:VEVENT
BEGIN:VEVENT
DTSTART;TZID=UTC:20260320T180000
DTEND;TZID=UTC:20260320T200000
DTSTAMP:20260422T004016
CREATED:20260228T030129Z
LAST-MODIFIED:20260228T030129Z
UID:1515-1774029600-1774036800@iiwc.in
SUMMARY:Cultural Program – Azim Premji University
DESCRIPTION:
URL:https://iiwc.in/event/cultural-program-azim-premji-university-2/
LOCATION:Wadia Hall\, The Indian Institute of World Culture\, #6\, Shri B P Wadia Road\,\, Bangalore\, Karnataka\, 560004\, India
CATEGORIES:Cultural Programs
END:VEVENT
BEGIN:VEVENT
DTSTART;TZID=UTC:20260315T180000
DTEND;TZID=UTC:20260315T200000
DTSTAMP:20260422T004016
CREATED:20260228T025918Z
LAST-MODIFIED:20260315T072408Z
UID:1507-1773597600-1773604800@iiwc.in
SUMMARY:Vishwa Sneha Balaga Presents Karaoke Music Program
DESCRIPTION:
URL:https://iiwc.in/event/vishwa-sneha-balaga-presents-karaoke-music-program/
LOCATION:Wadia Hall\, The Indian Institute of World Culture\, #6\, Shri B P Wadia Road\,\, Bangalore\, Karnataka\, 560004\, India
CATEGORIES:Cultural Programs
ATTACH;FMTTYPE=image/jpeg:https://iiwc.in/wp-content/uploads/2026/02/15Mar-Music.jpeg
END:VEVENT
BEGIN:VEVENT
DTSTART;TZID=UTC:20260315T100000
DTEND;TZID=UTC:20260315T130000
DTSTAMP:20260422T004016
CREATED:20260228T025752Z
LAST-MODIFIED:20260228T025752Z
UID:1503-1773568800-1773579600@iiwc.in
SUMMARY:Gowri Sundar Prasthisthana Award Ceremony
DESCRIPTION:
URL:https://iiwc.in/event/gowri-sundar-prasthisthana-award-ceremony/
LOCATION:Wadia Hall\, The Indian Institute of World Culture\, #6\, Shri B P Wadia Road\,\, Bangalore\, Karnataka\, 560004\, India
CATEGORIES:Cultural Programs
END:VEVENT
BEGIN:VEVENT
DTSTART;TZID=UTC:20260307T180000
DTEND;TZID=UTC:20260307T200000
DTSTAMP:20260422T004016
CREATED:20260228T024829Z
LAST-MODIFIED:20260306T075800Z
UID:1467-1772906400-1772913600@iiwc.in
SUMMARY:Classical Dance Recital – "Narthaki"
DESCRIPTION:
URL:https://iiwc.in/event/classical-dance-recital-narthaki/
LOCATION:Wadia Hall\, The Indian Institute of World Culture\, #6\, Shri B P Wadia Road\,\, Bangalore\, Karnataka\, 560004\, India
CATEGORIES:Cultural Programs
ATTACH;FMTTYPE=image/jpeg:https://iiwc.in/wp-content/uploads/2026/03/7Mar-Dance.jpeg
END:VEVENT
BEGIN:VEVENT
DTSTART;TZID=UTC:20260306T180000
DTEND;TZID=UTC:20260306T200000
DTSTAMP:20260422T004016
CREATED:20260228T025123Z
LAST-MODIFIED:20260306T080210Z
UID:1475-1772820000-1772827200@iiwc.in
SUMMARY:Music Program by Prasthuti Trust
DESCRIPTION:
URL:https://iiwc.in/event/music-program-by-prasthuti-trust/
LOCATION:Wadia Hall\, The Indian Institute of World Culture\, #6\, Shri B P Wadia Road\,\, Bangalore\, Karnataka\, 560004\, India
CATEGORIES:Cultural Programs
ATTACH;FMTTYPE=image/jpeg:https://iiwc.in/wp-content/uploads/2026/03/6Mar-Music.jpeg
END:VEVENT
BEGIN:VEVENT
DTSTART;TZID=UTC:20260305T180000
DTEND;TZID=UTC:20260305T200000
DTSTAMP:20260422T004016
CREATED:20260228T024657Z
LAST-MODIFIED:20260228T024657Z
UID:1463-1772733600-1772740800@iiwc.in
SUMMARY:Dr. M D Parthasarathy and Smt. Sushila Parthasarathy Memorial Programme Bharatanatyam Dance Recital
DESCRIPTION:
URL:https://iiwc.in/event/dr-m-d-parthasarathy-and-smt-sushila-parthasarathy-memorial-programme-bharatanatyam-dance-recital/
LOCATION:Wadia Hall\, The Indian Institute of World Culture\, #6\, Shri B P Wadia Road\,\, Bangalore\, Karnataka\, 560004\, India
CATEGORIES:Cultural Programs
ATTACH;FMTTYPE=image/jpeg:https://iiwc.in/wp-content/uploads/2026/02/5MAr-Dance.jpeg
END:VEVENT
BEGIN:VEVENT
DTSTART;TZID=UTC:20260121T180000
DTEND;TZID=UTC:20260121T200000
DTSTAMP:20260422T004016
CREATED:20260104T043233Z
LAST-MODIFIED:20260104T043233Z
UID:1429-1769018400-1769025600@iiwc.in
SUMMARY:BLRHUBBA Presents Bhutas of Tulunadu
DESCRIPTION:By Purushothama Bilimale
URL:https://iiwc.in/event/blrhubba-presents-bhutas-of-tulunadu/
LOCATION:Wadia Hall\, The Indian Institute of World Culture\, #6\, Shri B P Wadia Road\,\, Bangalore\, Karnataka\, 560004\, India
CATEGORIES:Cultural Programs
END:VEVENT
BEGIN:VEVENT
DTSTART;TZID=UTC:20260120T180000
DTEND;TZID=UTC:20260120T200000
DTSTAMP:20260422T004016
CREATED:20260104T043022Z
LAST-MODIFIED:20260104T043022Z
UID:1425-1768932000-1768939200@iiwc.in
SUMMARY:Gamaka ‘Karna Moksha’
DESCRIPTION:By Vidushi Dr. Shyamala Prakash and Sri Santhosh Bharadwaj
URL:https://iiwc.in/event/gamaka-karna-moksha/
LOCATION:Wadia Hall\, The Indian Institute of World Culture\, #6\, Shri B P Wadia Road\,\, Bangalore\, Karnataka\, 560004\, India
CATEGORIES:Cultural Programs
END:VEVENT
BEGIN:VEVENT
DTSTART;TZID=UTC:20260117T180000
DTEND;TZID=UTC:20260117T200000
DTSTAMP:20260422T004016
CREATED:20260104T042717Z
LAST-MODIFIED:20260104T042717Z
UID:1417-1768672800-1768680000@iiwc.in
SUMMARY:BLRHUBBA in Association with Azim Premji University
DESCRIPTION:From the Hills of Kodagu “Urutikottu Songs & Dances” By : Sharada and Troupe
URL:https://iiwc.in/event/blrhubba-in-association-with-azim-premji-university/
LOCATION:Wadia Hall\, The Indian Institute of World Culture\, #6\, Shri B P Wadia Road\,\, Bangalore\, Karnataka\, 560004\, India
CATEGORIES:Cultural Programs
END:VEVENT
BEGIN:VEVENT
DTSTART;TZID=UTC:20260116T183000
DTEND;TZID=UTC:20260116T203000
DTSTAMP:20260422T004016
CREATED:20260104T042557Z
LAST-MODIFIED:20260104T042557Z
UID:1413-1768588200-1768595400@iiwc.in
SUMMARY:BLRHUBBA Presents The Karnataka Raga Trail by Chitra Srikrishna
DESCRIPTION:
URL:https://iiwc.in/event/blrhubba-presents-the-karnataka-raga-trail-by-chitra-srikrishna/
LOCATION:Wadia Hall\, The Indian Institute of World Culture\, #6\, Shri B P Wadia Road\,\, Bangalore\, Karnataka\, 560004\, India
CATEGORIES:Cultural Programs
END:VEVENT
BEGIN:VEVENT
DTSTART;TZID=UTC:20260113T180000
DTEND;TZID=UTC:20260113T200000
DTSTAMP:20260422T004016
CREATED:20260104T041824Z
LAST-MODIFIED:20260104T041824Z
UID:1400-1768327200-1768334400@iiwc.in
SUMMARY:Carnatic Vocal Concert
DESCRIPTION:
URL:https://iiwc.in/event/carnatic-vocal-concert-6/
LOCATION:Wadia Hall\, The Indian Institute of World Culture\, #6\, Shri B P Wadia Road\,\, Bangalore\, Karnataka\, 560004\, India
CATEGORIES:Cultural Programs
END:VEVENT
BEGIN:VEVENT
DTSTART;TZID=UTC:20260110T180000
DTEND;TZID=UTC:20260110T200000
DTSTAMP:20260422T004016
CREATED:20260104T042358Z
LAST-MODIFIED:20260104T042358Z
UID:1409-1768068000-1768075200@iiwc.in
SUMMARY:Karaoke Program
DESCRIPTION:
URL:https://iiwc.in/event/karaoke-program/
LOCATION:Wadia Hall\, The Indian Institute of World Culture\, #6\, Shri B P Wadia Road\,\, Bangalore\, Karnataka\, 560004\, India
CATEGORIES:Cultural Programs
END:VEVENT
BEGIN:VEVENT
DTSTART;TZID=UTC:20260106T180000
DTEND;TZID=UTC:20260106T200000
DTSTAMP:20260422T004016
CREATED:20260104T041550Z
LAST-MODIFIED:20260104T041550Z
UID:1392-1767722400-1767729600@iiwc.in
SUMMARY:Carnatic Vocal Concert
DESCRIPTION:
URL:https://iiwc.in/event/carnatic-vocal-concert-5/
LOCATION:Wadia Hall\, The Indian Institute of World Culture\, #6\, Shri B P Wadia Road\,\, Bangalore\, Karnataka\, 560004\, India
CATEGORIES:Cultural Programs
ATTACH;FMTTYPE=image/jpeg:https://iiwc.in/wp-content/uploads/2026/01/6Jan-Music.jpeg
END:VEVENT
BEGIN:VEVENT
DTSTART;TZID=UTC:20251207T170000
DTEND;TZID=UTC:20251207T200000
DTSTAMP:20260422T004016
CREATED:20251202T042420Z
LAST-MODIFIED:20251202T042420Z
UID:1354-1765126800-1765137600@iiwc.in
SUMMARY:Southern Harmony Musical Night – Cultural Event
DESCRIPTION:
URL:https://iiwc.in/event/southern-harmony-musical-night-cultural-event/
LOCATION:Wadia Hall\, The Indian Institute of World Culture\, #6\, Shri B P Wadia Road\,\, Bangalore\, Karnataka\, 560004\, India
CATEGORIES:Cultural Programs
ATTACH;FMTTYPE=image/jpeg:https://iiwc.in/wp-content/uploads/2025/12/7Dec-Music.jpeg
END:VEVENT
BEGIN:VEVENT
DTSTART;TZID=UTC:20251115T180000
DTEND;TZID=UTC:20251115T200000
DTSTAMP:20260422T004016
CREATED:20251104T030411Z
LAST-MODIFIED:20251104T030411Z
UID:1303-1763229600-1763236800@iiwc.in
SUMMARY:“Swararchane” – Music Program
DESCRIPTION:
URL:https://iiwc.in/event/swararchane-music-program/
LOCATION:Wadia Hall\, The Indian Institute of World Culture\, #6\, Shri B P Wadia Road\,\, Bangalore\, Karnataka\, 560004\, India
CATEGORIES:Cultural Programs
ATTACH;FMTTYPE=image/jpeg:https://iiwc.in/wp-content/uploads/2025/11/15Nov-Music.jpeg
END:VEVENT
BEGIN:VEVENT
DTSTART;TZID=UTC:20251108T180000
DTEND;TZID=UTC:20251108T200000
DTSTAMP:20260422T004016
CREATED:20251104T025919Z
LAST-MODIFIED:20251118T031420Z
UID:1298-1762624800-1762632000@iiwc.in
SUMMARY:ನುಡಿ ರಂಗ ಅರ್ಪಿಸುವ ಏಕವ್ಯಕ್ತಿ ನಾಟಕ  - Cultural Program – Azim Premji University
DESCRIPTION:
URL:https://iiwc.in/event/cultural-program-azim-premji-university/
LOCATION:Wadia Hall\, The Indian Institute of World Culture\, #6\, Shri B P Wadia Road\,\, Bangalore\, Karnataka\, 560004\, India
CATEGORIES:Cultural Programs
ATTACH;FMTTYPE=image/jpeg:https://iiwc.in/wp-content/uploads/2025/11/8Nov-Drama-1.jpeg
END:VEVENT
BEGIN:VEVENT
DTSTART;TZID=UTC:20251107T180000
DTEND;TZID=UTC:20251107T200000
DTSTAMP:20260422T004016
CREATED:20251104T025457Z
LAST-MODIFIED:20251104T025457Z
UID:1286-1762538400-1762545600@iiwc.in
SUMMARY:“Samgeeth” – Musical Show
DESCRIPTION:
URL:https://iiwc.in/event/samgeeth-musical-show/
LOCATION:Wadia Hall\, The Indian Institute of World Culture\, #6\, Shri B P Wadia Road\,\, Bangalore\, Karnataka\, 560004\, India
CATEGORIES:Cultural Programs
ATTACH;FMTTYPE=image/jpeg:https://iiwc.in/wp-content/uploads/2025/11/7Nov-Music.jpeg
END:VEVENT
BEGIN:VEVENT
DTSTART;TZID=UTC:20251105T180000
DTEND;TZID=UTC:20251105T200000
DTSTAMP:20260422T004016
CREATED:20251104T022814Z
LAST-MODIFIED:20251104T022814Z
UID:1281-1762365600-1762372800@iiwc.in
SUMMARY:Karaoke Music Program
DESCRIPTION:
URL:https://iiwc.in/event/karaoke-music-program-3/
LOCATION:Wadia Hall\, The Indian Institute of World Culture\, #6\, Shri B P Wadia Road\,\, Bangalore\, Karnataka\, 560004\, India
CATEGORIES:Cultural Programs
ATTACH;FMTTYPE=image/jpeg:https://iiwc.in/wp-content/uploads/2025/11/5Nov-Music.jpeg
END:VEVENT
BEGIN:VEVENT
DTSTART;TZID=UTC:20251018T180000
DTEND;TZID=UTC:20251018T200000
DTSTAMP:20260422T004016
CREATED:20251009T011952Z
LAST-MODIFIED:20251009T012033Z
UID:1238-1760810400-1760817600@iiwc.in
SUMMARY:Cultural Program from Azim Premji University
DESCRIPTION:
URL:https://iiwc.in/event/cultural-program-from-azim-premji-university/
LOCATION:Wadia Hall\, The Indian Institute of World Culture\, #6\, Shri B P Wadia Road\,\, Bangalore\, Karnataka\, 560004\, India
CATEGORIES:Cultural Programs
END:VEVENT
BEGIN:VEVENT
DTSTART;TZID=UTC:20251016T180000
DTEND;TZID=UTC:20251016T200000
DTSTAMP:20260422T004016
CREATED:20251009T011335Z
LAST-MODIFIED:20251009T011335Z
UID:1226-1760637600-1760644800@iiwc.in
SUMMARY:Musical tribute to Da Ra Bendre's Poetry
DESCRIPTION:
URL:https://iiwc.in/event/musical-tribute-to-da-ra-bendres-poetry/
LOCATION:Wadia Hall\, The Indian Institute of World Culture\, #6\, Shri B P Wadia Road\,\, Bangalore\, Karnataka\, 560004\, India
CATEGORIES:Cultural Programs
ATTACH;FMTTYPE=image/jpeg:https://iiwc.in/wp-content/uploads/2025/10/16OCt-Music.jpeg
END:VEVENT
BEGIN:VEVENT
DTSTART;TZID=UTC:20251011T180000
DTEND;TZID=UTC:20251011T200000
DTSTAMP:20260422T004016
CREATED:20251009T010832Z
LAST-MODIFIED:20251009T012315Z
UID:1222-1760205600-1760212800@iiwc.in
SUMMARY:Karaoke Music Program - Prasthuti Trust
DESCRIPTION:
URL:https://iiwc.in/event/karaoke-music-program-prasthuti-trust/
LOCATION:Wadia Hall\, The Indian Institute of World Culture\, #6\, Shri B P Wadia Road\,\, Bangalore\, Karnataka\, 560004\, India
CATEGORIES:Cultural Programs
ATTACH;FMTTYPE=image/jpeg:https://iiwc.in/wp-content/uploads/2025/10/11OCt-Music-1.jpeg
END:VEVENT
BEGIN:VEVENT
DTSTART;TZID=UTC:20251010T180000
DTEND;TZID=UTC:20251010T200000
DTSTAMP:20260422T004016
CREATED:20251009T010047Z
LAST-MODIFIED:20251009T010047Z
UID:1218-1760119200-1760126400@iiwc.in
SUMMARY:Bharatanatyam Dance Recital - Chithkala School of Dance
DESCRIPTION:
URL:https://iiwc.in/event/bharatanatyam-dance-recital-chithkala-school-of-dance/
LOCATION:Wadia Hall\, The Indian Institute of World Culture\, #6\, Shri B P Wadia Road\,\, Bangalore\, Karnataka\, 560004\, India
CATEGORIES:Cultural Programs
END:VEVENT
BEGIN:VEVENT
DTSTART;TZID=UTC:20251005T180000
DTEND;TZID=UTC:20251005T200000
DTSTAMP:20260422T004016
CREATED:20251009T011823Z
LAST-MODIFIED:20251009T011823Z
UID:1232-1759687200-1759694400@iiwc.in
SUMMARY:Bharatanatyam Dance Recital - Sri Purandara International Trust
DESCRIPTION:
URL:https://iiwc.in/event/bharatanatyam-dance-recital-sri-purandara-international-trust/
LOCATION:Wadia Hall\, The Indian Institute of World Culture\, #6\, Shri B P Wadia Road\,\, Bangalore\, Karnataka\, 560004\, India
CATEGORIES:Cultural Programs
ATTACH;FMTTYPE=image/jpeg:https://iiwc.in/wp-content/uploads/2025/10/5Oct-Dance.jpeg
END:VEVENT
BEGIN:VEVENT
DTSTART;TZID=UTC:20250928T180000
DTEND;TZID=UTC:20250928T200000
DTSTAMP:20260422T004016
CREATED:20250901T235014Z
LAST-MODIFIED:20250901T235014Z
UID:1144-1759082400-1759089600@iiwc.in
SUMMARY:Vijayachandrika Kala - Sangha Karaoke Music Program
DESCRIPTION:
URL:https://iiwc.in/event/vijayachandrika-kala-sangha-karaoke-music-program/
LOCATION:Wadia Hall\, The Indian Institute of World Culture\, #6\, Shri B P Wadia Road\,\, Bangalore\, Karnataka\, 560004\, India
CATEGORIES:Cultural Programs
END:VEVENT
END:VCALENDAR