BEGIN:VCALENDAR
VERSION:2.0
PRODID:-//IIWC - ECPv6.13.2.1//NONSGML v1.0//EN
CALSCALE:GREGORIAN
METHOD:PUBLISH
X-ORIGINAL-URL:https://iiwc.in
X-WR-CALDESC:Events for IIWC
REFRESH-INTERVAL;VALUE=DURATION:PT1H
X-Robots-Tag:noindex
X-PUBLISHED-TTL:PT1H
BEGIN:VTIMEZONE
TZID:Asia/Kolkata
BEGIN:STANDARD
TZOFFSETFROM:+0530
TZOFFSETTO:+0530
TZNAME:IST
DTSTART:20260101T000000
END:STANDARD
END:VTIMEZONE
BEGIN:VEVENT
DTSTART;TZID=Asia/Kolkata:20260405T100000
DTEND;TZID=Asia/Kolkata:20260405T130000
DTSTAMP:20260423T142844
CREATED:20260404T075931Z
LAST-MODIFIED:20260404T075931Z
UID:1590-1775383200-1775394000@iiwc.in
SUMMARY:“Vedanta Shravana” Aham Brahmaasmi oundation
DESCRIPTION:
URL:https://iiwc.in/event/vedanta-shravana-aham-brahmaasmi-oundation/
LOCATION:Wadia Hall\, The Indian Institute of World Culture\, #6\, Shri B P Wadia Road\,\, Bangalore\, Karnataka\, 560004\, India
CATEGORIES:Cultural Programs
ATTACH;FMTTYPE=image/jpeg:https://iiwc.in/wp-content/uploads/2026/04/5Apr-Misc.jpeg
END:VEVENT
END:VCALENDAR