BEGIN:VCALENDAR
VERSION:2.0
PRODID:-//IIWC - ECPv6.13.2.1//NONSGML v1.0//EN
CALSCALE:GREGORIAN
METHOD:PUBLISH
X-ORIGINAL-URL:https://iiwc.in
X-WR-CALDESC:Events for IIWC
REFRESH-INTERVAL;VALUE=DURATION:PT1H
X-Robots-Tag:noindex
X-PUBLISHED-TTL:PT1H
BEGIN:VTIMEZONE
TZID:Asia/Kolkata
BEGIN:STANDARD
TZOFFSETFROM:+0530
TZOFFSETTO:+0530
TZNAME:IST
DTSTART:20260101T000000
END:STANDARD
END:VTIMEZONE
BEGIN:VEVENT
DTSTART;TZID=Asia/Kolkata:20260404T180000
DTEND;TZID=Asia/Kolkata:20260404T200000
DTSTAMP:20260423T142926
CREATED:20260404T075741Z
LAST-MODIFIED:20260404T075741Z
UID:1586-1775325600-1775332800@iiwc.in
SUMMARY:“Samanvitha” Book Release Program
DESCRIPTION:
URL:https://iiwc.in/event/samanvitha-book-release-program/
LOCATION:Wadia Hall\, The Indian Institute of World Culture\, #6\, Shri B P Wadia Road\,\, Bangalore\, Karnataka\, 560004\, India
CATEGORIES:Book Release
ATTACH;FMTTYPE=image/jpeg:https://iiwc.in/wp-content/uploads/2026/04/4Apr-BookRelease.jpeg
END:VEVENT
END:VCALENDAR